BEGIN:VCALENDAR
VERSION:2.0
PRODID:-//Columbia Valley Tourism Guide - Invermere BC | Official Travel Guide &amp; Events Calendar - ECPv4.2.3//NONSGML v1.0//EN
CALSCALE:GREGORIAN
METHOD:PUBLISH
X-WR-CALNAME:Columbia Valley Tourism Guide - Invermere BC | Official Travel Guide &amp; Events Calendar
X-ORIGINAL-URL:https://columbiavalley.com
X-WR-CALDESC:Events for Columbia Valley Tourism Guide - Invermere BC | Official Travel Guide &amp; Events Calendar
BEGIN:VEVENT
DTSTART;VALUE=DATE:20170509
DTEND;VALUE=DATE:20170509
DTSTAMP:20260420T083530
CREATED:20170401
LAST-MODIFIED:20180423
UID:21869-1494288000-1494374399@columbiavalley.com
SUMMARY:Wings Over the Rockies - May 9 events
DESCRIPTION:The Wings Over the Rockies - May 9 schedule is jam-packed with events selected in keeping with the 2017 theme\, Birds\, Bats\, Bears and Beyond.\n\nOnline registration is open 24/7 and will start on Monday\, April 10\, at 9 AM. As space is limited\, it is recommended you book your spots early. You can go to: https://wingsovertherockies.org/events/events.php.\n\nHere's the Wings Over the Rockies May 9th lineup to help you decide which events to choose:\n\n \tBirding by Golf Cart with BC Rockies Adventure Guides - Max. #20\n \tBirds and Forestry with Brian Feeney - Max. # 20\n \tTake a Walk on the Westside Legacy Trail with Mark Halwa - Max. # 15\n \tRe-wilding the Wild with Jessie Palaposki & Kim Urbaniak - Max. # 24\n \tInvermere to Radium BBQ Lunch River Paddle - Max. # 36\n \tOn the Scent: A hunt for Bear Signs with Colleen Campbell - Max. # 10\n \tWater through the Ktunaxa Lens with Bonnie Harvey - Max. #20\n \tA Morning with the Birds & the Bees with BEEland Market - Max. # 30\n \tBug Off & Buzz Around at Edibles Farm and Cafe - Max. # 20\n \t A Tour Through Time: History of the valley with JD Jeffery - Max. # 20\n \tEcosystem Restoration with Randy harris & Ian Adams - Max. # 20\n \tFloodplain Wetlands in the Columbia Valley with Dr. Suzanne Bayley & Penny Ohanjanian - Max. # 15\n \tCrazy About Columbia Lake with Tracy Flynn - max. # 10\n \tFrom Salter Creek South (Hither Dither) with Drew Bragg - Max. # 13\n \tFlight of Beer: Arrowhead Brewery Tour ( must be 19 + yrs) - Max. # 15\n \tA Potpourri of Pretty Plants & Some Seed Send-off Systems with Bryan Kelly-McArthur (evening presentation) - max. # 100\n\nCost for each of the Wings Over the Rockies - May 9 events varies. To learn the details of each event\, visit the Wings Over the Rockies website at: https://wingsovertherockies.org/
URL:https://columbiavalley.com/events/wings-rockies-may-9/
GEO:50.515611;-115.999285
CATEGORIES:Educational & Business,Recreation & Sports
ATTACH;FMTTYPE=image/jpeg:https://columbiavalley.com/wp-content/uploads/2016/04/wings-over-the-rockies.jpg
END:VEVENT
END:VCALENDAR