BEGIN:VCALENDAR
VERSION:2.0
PRODID:-//Columbia Valley Tourism Guide - Invermere BC | Official Travel Guide &amp; Events Calendar - ECPv4.2.3//NONSGML v1.0//EN
CALSCALE:GREGORIAN
METHOD:PUBLISH
X-WR-CALNAME:Columbia Valley Tourism Guide - Invermere BC | Official Travel Guide &amp; Events Calendar
X-ORIGINAL-URL:https://columbiavalley.com
X-WR-CALDESC:Events for Columbia Valley Tourism Guide - Invermere BC | Official Travel Guide &amp; Events Calendar
BEGIN:VEVENT
DTSTART;VALUE=DATE:20170510
DTEND;VALUE=DATE:20170510
DTSTAMP:20260420T093717
CREATED:20170402
LAST-MODIFIED:20180423
UID:21870-1494374400-1494460799@columbiavalley.com
SUMMARY:Wings Over the Rockies - May 10 events
DESCRIPTION:The Wings Over the Rockies - May 10 schedule is loaded up with fabulous  events in keeping with this year's theme\, Birds\, Bats\, Bears and Beyond.\n\nOnline registration will be open 24/7\, starting on Monday\, April 10\, at 9 AM. As space is limited\, it is recommended you book your spots early. Go to: https://wingsovertherockies.org/events/events.php.\n\nHere's the Wings Over the Rockies - May 10 lineup to help you decide which events to choose:\n\n \tDawn Chorus with Brian Wesley - Max. #16\n \tThe Spectacular Fairmont Hoodoos with Daryl Calder - Max. # 20\n \tOsprey & Eagle Nests with Cathy Parkes - Max. # 15\n \tHalf Day Guided Fishing Trip on Lk. Windermere - Max. # 6 (Min. # 2)\n \tWetlands Paddle with a local naturalist - Max. # 24\n \tNature Walk on Bella Vista Trails with Bryan Kelly-McArthur - Max. # 5\n \tHistory of the Hot Springs Tour - Max. 20\n \tBighorn Sheep Educational Virtual Tour -\n \tAlien invasion: Impact of Invasive Species with Jessie Paloposki - Max. # 50\n \tHistorical Tour of Taynton Bay by Voyageur Canoe - Max. #24\n \tHeadwaters of the Columbia  woth Daryl Calder - Max. # 20\n \tA Walk with Charlie Russell - Max. # 14\n \tHiking Edgewater's Back Trails with Herb Cohen - Max. # 12\n \tBedrock Geology of Panorama/Toby Creek with Walter Benstead - Max. # 16\n \tPaddle the Columbia River  (min. age 12) - Max. # 12\n \tEcological Tour of the Zehnder Ranch with John/ David Zehnder - Max. # 18\n \tFull Moon Swansea Hike - Max. # 20\n \tWild & Wacky Wetland Trivia at Arrowhead Brewery - Max. # 60\n \tBears & Beyond Evening Presentation - Max. # 100\n\nCost for each varies. To learn the details of each event\, visit the Wings Over the Rockies website at: https://wingsovertherockies.org/
URL:https://columbiavalley.com/events/wings-over-the-rockies-may-10/
GEO:50.515611;-115.999285
CATEGORIES:Educational & Business,Recreation & Sports
ATTACH;FMTTYPE=image/jpeg:https://columbiavalley.com/wp-content/uploads/2016/04/wings-over-the-rockies.jpg
END:VEVENT
END:VCALENDAR