BEGIN:VCALENDAR
VERSION:2.0
PRODID:-//Columbia Valley Tourism Guide - Invermere BC | Official Travel Guide &amp; Events Calendar - ECPv4.2.3//NONSGML v1.0//EN
CALSCALE:GREGORIAN
METHOD:PUBLISH
X-WR-CALNAME:Columbia Valley Tourism Guide - Invermere BC | Official Travel Guide &amp; Events Calendar
X-ORIGINAL-URL:https://columbiavalley.com
X-WR-CALDESC:Events for Columbia Valley Tourism Guide - Invermere BC | Official Travel Guide &amp; Events Calendar
BEGIN:VEVENT
DTSTART;VALUE=DATE:20180727
DTEND;VALUE=DATE:20180806
DTSTAMP:20260420T094402
CREATED:20160701
LAST-MODIFIED:20180501
UID:12124-1532649600-1533599999@columbiavalley.com
SUMMARY:Willi XC Challenge
DESCRIPTION:The Willi XC Challenge (2018)  is getting ready to host more than 100 pilots from across Canada\, the US\, Europe and Australia. Held annually at the Mount 7 flying site\, the competition challenges free flying pilots\, para gliders and hang gliders\, to beat their personal bests on cross country distance\, out-and-return flights and other categories.\nA Look Backward\nLast year (2017) was bigger and better! We celebrated the 21st Willi\, the 26th year of paragliding competition\, and 40+ years of hang gliding in the Columbia Valley. Nearly 100 Paragliders and almost 20 Hanggliders flew 17\,000+ kms of cross country\, and mostly had a great time doing it. Each year\, there are winners for great XC flying\, and others who win for other exploits. The big winners though are all the pilots who attend due to the great contributions from our sponsors and others. Thanks to all!\n\n[su_accordion][su_spoiler title="Watch the 2015 video" class="my-custom-spoiler" style="fancy" open="no"]\n\n[embed]https://www.youtube.com/watch?v=WK-Y7Jnduy4[/embed]\n\n[/su_spoiler][/su_accordion]\n\nThe event promises to be loads of fun and the safest big distance flying event in the mountains. Even though the challenge is technically a competition\, and the pilots\, especially the veterans at the sport\, always want to best each other\, the atmosphere is relaxed\, friendly and fun!\n\n[caption id="attachment_14317" align="alignright" width="333"] The view from the air!Photo by Pete Reagan[/caption]\n\nFor all you seasoned flyers\, this is a chance to gain some experience in mountain conditions. Beginners and low airtime pilots\, this is your opportunity to get some cross-country experience and learn from the more seasoned ones.\nSo far this year\nAlthough the 2018 Willi XC Challenge is still in the planning stages\, we already know the following:\n\nDates are: July 27 to August 6 (Flying Days: July 28 to Aug 5)\n\nMeet Headquarters: Golden Eco-Adventure Ranch (GEAR)\n\nPre-registration: On-line at http://thewillixc.com/event-details/willi-registration/ and at the meet. After we receive your pre-registration information\, we will send you instructions for paying the meet entry fee.\n\nMeet Director: Stewart Midwinter\n\nAll pilots will require…\n\n \tHPAC membership for Canadian pilots or Out of country temporary insurance for visiting pilots (purchase on site)\n \tWilli and GEAR Waiver signed\n\nSPOT\, inREach or equivalent with tracking enabled\n\nReminder: We use GPS scoring for XC flights (Novices claiming only flights to the LZ are excluded). You will need a GPS to log your XC flights\, and to be registered with the XC Canada On-line Contest (http://xcontest.org/canada/en/).\n\nBack at the base camp at the Golden Eco Adventure Ranch\, there will be\, over the week\, a full schedule of learning opportunities and social activities for pilots\, drivers and families.\n\nBecause Mount 7 and the Columbia Valley enjoy amazing thermal conditions\, they are known around the world in the free flight community as a prime site and the Willi XC Challenge is one of the premier events of its kind each summer.\n\nFor more details\, and to keep up to date on the event:\n\n[su_list icon="icon: arrow-right" icon_color="#f69d01"]\n\nvisit the website at: http://thewillixc.com\n\n \tcheck out the facebook page: https://facebook.com/TheWilliXCChallenge/\n \tsend an email to : flyfar@thewillixc.com\n\n[/su_list]
URL:https://columbiavalley.com/events/willi-xc-challenge/
LOCATION:891 Crandall Road\, Golden
GEO:51.250778;-116.896269
X-APPLE-STRUCTURED-LOCATION;VALUE=URI;X-ADDRESS=891 Crandall Road Golden;X-APPLE-RADIUS=500;X-TITLE=891 Crandall Road:geo:-116.896269,51.250778
CATEGORIES:Annual Events,Golden,Recreation & Sports
ATTACH;FMTTYPE=image/jpeg:https://columbiavalley.com/wp-content/uploads/2016/05/willi_xc_challenge_1000.jpg
END:VEVENT
END:VCALENDAR