BEGIN:VCALENDAR
VERSION:2.0
PRODID:-//Columbia Valley Tourism Guide - Invermere BC | Official Travel Guide &amp; Events Calendar - ECPv4.2.3//NONSGML v1.0//EN
CALSCALE:GREGORIAN
METHOD:PUBLISH
X-WR-CALNAME:Columbia Valley Tourism Guide - Invermere BC | Official Travel Guide &amp; Events Calendar
X-ORIGINAL-URL:https://columbiavalley.com
X-WR-CALDESC:Events for Columbia Valley Tourism Guide - Invermere BC | Official Travel Guide &amp; Events Calendar
BEGIN:VEVENT
DTSTART;TZID=UTC-6:20161115T190000
DTEND;TZID=UTC-6:20161115T200000
DTSTAMP:20260420T092736
CREATED:20161031T032100
LAST-MODIFIED:20161031T032100
UID:18167-1479236400-1479240000@columbiavalley.com
SUMMARY:Is Radon Gas hiding in your house?
DESCRIPTION:Radon gas? Did you know that radon gas is the second leading cause of lung cancer? And did you also know than many homes in the Columbia Valley contain unsafe levels of this gas?\n\nAnd finally\, do you know if it is seeping into your home? It would seem that we cannot completely get away from the outdoors even when we're indoors!\n\nWildsight is bringing an expert to David Thompson Secondary School to provide you with valuable information about radon\, its risks to health and its prevalence in the Columbia Valley. Nate Sereda\, a long-time resident of the area\,  is a Certified Radon Professional (certification by the Government of Canada)\, working with Energy Advise. His job involves the measurement of radon levels and the installation of radon mitigation systems in accordance with standards set by the Canadian National Radon Proficiency Program (C-NRPP).\n\nEveryone's welcome to join Nate to learn about the threat posed by radon\, its prevalence in our area and what you can do about it.\n\nAdmission by donation.\n\nTo learn more about the work of Wildsight in the Invermere area\, visit: http://wildsight.ca/branches/invermere/
URL:https://columbiavalley.com/events/wildsight-radon-gas/
LOCATION:1535 - 14th Street\, Invermere
GEO:50.5021516;-116.0410705
X-APPLE-STRUCTURED-LOCATION;VALUE=URI;X-ADDRESS=1535 - 14th Street Invermere;X-APPLE-RADIUS=500;X-TITLE=1535 - 14th Street:geo:-116.0410705,50.5021516
CATEGORIES:Educational & Business,Health & Wellness
ATTACH;FMTTYPE=image/jpeg:https://columbiavalley.com/wp-content/uploads/2016/10/wildsight_radon_gas_1000.jpg
ORGANIZER;CN="Wildsight":MAILTO:info@wildsight.ca
END:VEVENT
END:VCALENDAR