BEGIN:VCALENDAR
VERSION:2.0
PRODID:-//Columbia Valley Tourism Guide - Invermere BC | Official Travel Guide &amp; Events Calendar - ECPv4.2.3//NONSGML v1.0//EN
CALSCALE:GREGORIAN
METHOD:PUBLISH
X-WR-CALNAME:Columbia Valley Tourism Guide - Invermere BC | Official Travel Guide &amp; Events Calendar
X-ORIGINAL-URL:https://columbiavalley.com
X-WR-CALDESC:Events for Columbia Valley Tourism Guide - Invermere BC | Official Travel Guide &amp; Events Calendar
BEGIN:VEVENT
DTSTART;TZID=America/Edmonton:20170214T190000
DTEND;TZID=America/Edmonton:20170214T190000
DTSTAMP:20260420T083559
CREATED:20170112T231253
LAST-MODIFIED:20170112T231253
UID:20634-1487098800-1487098800@columbiavalley.com
SUMMARY:'Weirdos' - Cinefest 2017 Winter Program
DESCRIPTION:Weirdos\, presented by the Columbia Arts Council\, is the third film in the Cinefest 2017 Winter Program.\n\nCanadian master filmmaker Bruce McDonald teams with writer/actor Daniel MacIvor for a coming-of-age road movie with a blend of magic and naturalism.\n\nIt’s July 1976 in Antigonish\, Nova Scotia where music-loving 15-year-old Kit (Dylan Authorsm) spends time either listening to Elton John albums in his room or hanging out with his platonic girlfriend\, Alice (Julia Sarah Stone). Craving a turning point in their lives\, the two decide to hitchhike to Cape Breton to visit Kit’s glamorous but unstable mother\, Laura (Molly Parker).\n\nThrough their quest for something bigger and better - both on the road and at their destination - they’ll face some truths about themselves that will point the way to a more honest\, fully lived future. The film is suitable for all ages.\n\nCanada\, 2016\nEnglish\n89 min.\n\nThere will be a cash bar\, light refreshments and popcorn available.\n\nTickets may be purchased online or at the door:\n\n \tAdults - $12\n \tCV Arts members - $11 (at the door only)\n \tAge 13 and under - $5\n \tInquire about Punch Cards.\n\nDoors open at 6:30 PM\, film starts at 7 PM.\n\nNote: This event copy provided by Columbia Valley Arts.
URL:https://columbiavalley.com/events/weirdos-cinefest-2017-winter-program/
LOCATION:1720 - 4th Avenue\, Invermere
GEO:50.4978;-116.024401
X-APPLE-STRUCTURED-LOCATION;VALUE=URI;X-ADDRESS=1720 - 4th Avenue Invermere;X-APPLE-RADIUS=500;X-TITLE=1720 - 4th Avenue:geo:-116.024401,50.4978
CATEGORIES:Arts & Entertainment
ATTACH;FMTTYPE=image/jpeg:https://columbiavalley.com/wp-content/uploads/2017/01/Cinefest3_Weirdos.jpg
END:VEVENT
END:VCALENDAR