BEGIN:VCALENDAR
VERSION:2.0
PRODID:-//Columbia Valley Tourism Guide - Invermere BC | Official Travel Guide &amp; Events Calendar - ECPv4.2.3//NONSGML v1.0//EN
CALSCALE:GREGORIAN
METHOD:PUBLISH
X-WR-CALNAME:Columbia Valley Tourism Guide - Invermere BC | Official Travel Guide &amp; Events Calendar
X-ORIGINAL-URL:https://columbiavalley.com
X-WR-CALDESC:Events for Columbia Valley Tourism Guide - Invermere BC | Official Travel Guide &amp; Events Calendar
BEGIN:VEVENT
DTSTART;VALUE=DATE:20180419
DTEND;VALUE=DATE:20180427
DTSTAMP:20260420T132111
CREATED:20180411
LAST-MODIFIED:20180425
UID:26641-1524096000-1524873599@columbiavalley.com
SUMMARY:Wall art workshops at Inspire
DESCRIPTION:In these wall art workshops at Inspire Floral Boutique you will create a funky do-it-yourself wall art piece using pallet board\, chalk paint and a gnarly branch. Learn how to work with chalk paint on a large wood surface. Learn distressing and layering techniques. Learn how to work with wax as a finishing technique.\n\nThese are part of Inspire’s line-up of learning opportunities where you can get out with your friends and get those creative juices flowing. The workshops use the fabulous eco-friendly chalk paint and all-natural sealers produced by American Paint Company.\n\nWorkshop dates:\n\nApril 19\, 6:30-8:30 pm\nApril 24\, 6:30-8:30 pm\nApril 27\, 1-3 pm\n\n\nPlace: Inspire Floral Boutique\, downtown Invermere\nAvailability: 4-6 people per class\nPrice: $60/person (must pre-pay to hold your spot)\n\nWhat you get:\n\nthe wall art that you create\n1 - 4 oz pot of APC paint in a colour of your choice\n\n\nWe provide all the tools you will need to get the job done. You just need to pay\, show up and have fun!\n\nSnacks and beverages are provided. 10% discount on all purchases made during the workshop (except Kameleon Jewelry).\n\nTo register\, call us at the shop on 250-342-0383 or email us at info@inspireflowers.ca. Spots are limited so register ASAP!\n\n[the_ad_placement id="invermere-in-content"]
URL:https://columbiavalley.com/events/wall-art-workshops-inspire/
LOCATION:1046A – 7th Avenue\, Invermere
GEO:50.5043592;-116.0276895
X-APPLE-STRUCTURED-LOCATION;VALUE=URI;X-ADDRESS=1046A – 7th Avenue Invermere;X-APPLE-RADIUS=500;X-TITLE=1046A – 7th Avenue:geo:-116.0276895,50.5043592
CATEGORIES:Arts & Entertainment,Educational & Business,Invermere
ATTACH;FMTTYPE=image/jpeg:https://columbiavalley.com/wp-content/uploads/2018/04/branch-pallet-wall-art.jpg
END:VEVENT
END:VCALENDAR