BEGIN:VCALENDAR
VERSION:2.0
PRODID:-//Columbia Valley Tourism Guide - Invermere BC | Official Travel Guide &amp; Events Calendar - ECPv4.2.3//NONSGML v1.0//EN
CALSCALE:GREGORIAN
METHOD:PUBLISH
X-WR-CALNAME:Columbia Valley Tourism Guide - Invermere BC | Official Travel Guide &amp; Events Calendar
X-ORIGINAL-URL:https://columbiavalley.com
X-WR-CALDESC:Events for Columbia Valley Tourism Guide - Invermere BC | Official Travel Guide &amp; Events Calendar
BEGIN:VEVENT
DTSTART;TZID=UTC-6:20161211T090000
DTEND;TZID=UTC-6:20161211T170000
DTSTAMP:20260420T082222
CREATED:20161129T192216
LAST-MODIFIED:20161129T192216
UID:19273-1481446800-1481475600@columbiavalley.com
SUMMARY:Turkey Spiel - Win your holiday bird!
DESCRIPTION:[caption id="attachment_19341" align="alignright" width="193"] Click to view poster[/caption]\n\nIt's a Turkey Spiel! A one-day bonspiel with a twist! Draw a frozen turkey down the ice to hit the button and win your Christmas turkey!\n\nRegistration fee includes lunch and some really great prizes!\n\nSo get your team together and register by December 5th by visiting the Invermere Curling Centre or calling 250-342-3315.\n\nThe event is sponsored by Sobeys.
URL:https://columbiavalley.com/events/turkey-spiel/
LOCATION:509 - 13th Street\, Invermere
GEO:50.5025437;-116.0234134
X-APPLE-STRUCTURED-LOCATION;VALUE=URI;X-ADDRESS=509 - 13th Street Invermere;X-APPLE-RADIUS=500;X-TITLE=509 - 13th Street:geo:-116.0234134,50.5025437
CATEGORIES:Food & Drink,Recreation & Sports
ATTACH;FMTTYPE=image/jpeg:https://columbiavalley.com/wp-content/uploads/2016/11/turkey_spiel_800.jpg
END:VEVENT
END:VCALENDAR