BEGIN:VCALENDAR
VERSION:2.0
PRODID:-//Columbia Valley Tourism Guide - Invermere BC | Official Travel Guide &amp; Events Calendar - ECPv4.2.3//NONSGML v1.0//EN
CALSCALE:GREGORIAN
METHOD:PUBLISH
X-WR-CALNAME:Columbia Valley Tourism Guide - Invermere BC | Official Travel Guide &amp; Events Calendar
X-ORIGINAL-URL:https://columbiavalley.com
X-WR-CALDESC:Events for Columbia Valley Tourism Guide - Invermere BC | Official Travel Guide &amp; Events Calendar
BEGIN:VEVENT
DTSTART;TZID=America/Edmonton:20171128T190000
DTEND;TZID=America/Edmonton:20171128T190000
DTSTAMP:20260420T082449
CREATED:20170922T170737
LAST-MODIFIED:20170923T200516
UID:24236-1511895600-1511895600@columbiavalley.com
SUMMARY:'Their Finest' - Cinefest 2017 Fall Program
DESCRIPTION:Their Finest is the 5th of the Cinefest fall series of independent films brought to the Columbia Valley by CV Arts and the Toronto International Film Circuit.\n\nThe Story\n\nLone Scherfig directs this romantic comedy\, 'Their Finest'. Set in Britain’s wartime film industry\, the film features a cast full of the UK’s celebrated comic actors including Bill Nighy and Richard E. Grant. Catrin Cole (Gemma Arterton) is a scriptwriter charged with bringing a female perspective to war films produced by the Ministry of Information’s Film Division. Catrin’s artist husband looks down on her job despite the fact that it is paying the rent.\n\nWhile on location in Devon\, Catrin begins to come into her own when she becomes the only crew person that Ambrose Hilliard (Nighy) – a past-his-prime actor – will talk to and take direction from. The film pops with witty banter and flows with lovely period detail while the characters are textured and the performances nuanced. Nighy is perfectly cast in his endearingly withering role and Jeremy Irons turns up for a welcome cameo. However\, Arterton steals the show\, bringing subtlety\, intelligence and a range of emotions to Catrin\, whose path to self-renewal is an example of a talented woman forging her place in the world.\n\nUK\, 2016\n110 minutes\nEnglish\n14A\n\n(text courtesy of Columbia Valley Arts)\n\nThere will be a cash bar and popcorn\n\nTickets\n\nTickets for 'Their Finest' may be purchased:\n\n \tonline at: https://columbiavalleyarts.com/CVARTS/contact-us/ \n \tat the door\n\nCost:\n\nAdults - $12\nCV Arts members - $11 (available only at the door\nAge 13 and under - $5\nAsk for a Punch Card\n\nDoors open at 6:30 PM\, film starts at 7 PM.
URL:https://columbiavalley.com/events/their-finest-cinefest-2017-fall-program-pynelogs/
LOCATION:1720 - 4th Avenue\, Invermere
GEO:50.4978;-116.024401
X-APPLE-STRUCTURED-LOCATION;VALUE=URI;X-ADDRESS=1720 - 4th Avenue Invermere;X-APPLE-RADIUS=500;X-TITLE=1720 - 4th Avenue:geo:-116.024401,50.4978
CATEGORIES:Arts & Entertainment,Invermere
ATTACH;FMTTYPE=image/jpeg:https://columbiavalley.com/wp-content/uploads/2017/09/cinefest.jpg
END:VEVENT
END:VCALENDAR