BEGIN:VCALENDAR
VERSION:2.0
PRODID:-//Columbia Valley Tourism Guide - Invermere BC | Official Travel Guide &amp; Events Calendar - ECPv4.2.3//NONSGML v1.0//EN
CALSCALE:GREGORIAN
METHOD:PUBLISH
X-WR-CALNAME:Columbia Valley Tourism Guide - Invermere BC | Official Travel Guide &amp; Events Calendar
X-ORIGINAL-URL:https://columbiavalley.com
X-WR-CALDESC:Events for Columbia Valley Tourism Guide - Invermere BC | Official Travel Guide &amp; Events Calendar
BEGIN:VEVENT
DTSTART;TZID=UTC-7:20180911T170000
DTEND;TZID=UTC-7:20181231T170000
DTSTAMP:20260420T120455
CREATED:20160710T040111
LAST-MODIFIED:20181112T022231
UID:10794-1536685200-1546275600@columbiavalley.com
SUMMARY:3-course dinner special at Strand's
DESCRIPTION:The 3-course dinner special will please the most discerning tastes. Take a peek at what you can look forward to each week on Tuesday\, Wednesday\, Thursday\, Friday and Sunday. Choose from 3 starters\, 3 entrees and 3 of Strand's fabulous Desserts!\n\nMake a reservation tonight! The dinner special begins at 5 pm.\n\nThis week (November 13-18) the menu features schnitzel cordon bleu\, blackened snapper or seafood pasta penne. What's on the menu\n\nPrice is $38.95 (plus tax and gratuity). Reserve early for the 3-course dinner special this week!\n\nChildren's menu available.\nStrands is open every day except Monday from 5 pm.\n[the_ad_placement id="invermere-in-content"]\n\n[su_spoiler title="Click here to make a Reservation" anchor="contact" class="my-custom-spoiler" style="fancy" open="no"]\n\nWe would like to hear from you. Please send us a message by filling out the form below and we will get back with you shortly.\n\n[su_row][su_column size="1/2"][formidable id=5][/su_column]\n[su_column size="1/2"]\n\n\n\n\nStrand's Old House Restaurant\n818 12 Street Invermere BC V0A 1K0\n250-342-6344\n\nHours of operation\n\nEvery day except Monday from 5 pm\n\n\n\n\n\n\n\n\n[/su_column]\n[/su_row][/su_spoiler]
URL:https://columbiavalley.com/events/strands-3-course-dinner-special/
LOCATION:818 - 12th Street\, Invermere\, BC
GEO:50.5046018;-116.0308441
X-APPLE-STRUCTURED-LOCATION;VALUE=URI;X-ADDRESS=818 - 12th Street Invermere BC;X-APPLE-RADIUS=500;X-TITLE=818 - 12th Street:geo:-116.0308441,50.5046018
CATEGORIES:Food & Drink,Invermere
ATTACH;FMTTYPE=image/jpeg:https://columbiavalley.com/wp-content/uploads/2016/04/strands_3_course_dinner_1000.jpg
END:VEVENT
END:VCALENDAR