BEGIN:VCALENDAR
VERSION:2.0
PRODID:-//Columbia Valley Tourism Guide - Invermere BC | Official Travel Guide &amp; Events Calendar - ECPv4.2.3//NONSGML v1.0//EN
CALSCALE:GREGORIAN
METHOD:PUBLISH
X-WR-CALNAME:Columbia Valley Tourism Guide - Invermere BC | Official Travel Guide &amp; Events Calendar
X-ORIGINAL-URL:https://columbiavalley.com
X-WR-CALDESC:Events for Columbia Valley Tourism Guide - Invermere BC | Official Travel Guide &amp; Events Calendar
BEGIN:VEVENT
DTSTART;VALUE=DATE:20160607
DTEND;VALUE=DATE:20160608
DTSTAMP:20260420T082819
CREATED:20160606
LAST-MODIFIED:20160606
UID:13266-1465257600-1465430399@columbiavalley.com
SUMMARY:Play Spur Valley for only $16!
DESCRIPTION:The Spur Valley Golf mid week special lets you golf every Tuesday and Wednesday during the season for only $16! At this low price\, the whole family can have great golfing adventures all summer long. This beautifully-manicured\, lush green 9-hole course is just 15 km north of Radium Hot Springs on Highway 93/95. You can't miss the sign for the turn-off.
URL:https://columbiavalley.com/events/spur-valley-golf-mid-week-special/2016-06-07/
LOCATION:4825 Luxor Station Road\, Edgewater
GEO:50.760868;-116.20249
X-APPLE-STRUCTURED-LOCATION;VALUE=URI;X-ADDRESS=4825 Luxor Station Road Edgewater;X-APPLE-RADIUS=500;X-TITLE=4825 Luxor Station Road:geo:-116.20249,50.760868
CATEGORIES:Recreation & Sports
ATTACH;FMTTYPE=image/jpeg:https://columbiavalley.com/wp-content/uploads/2016/06/9_hole_special.jpg
END:VEVENT
END:VCALENDAR