BEGIN:VCALENDAR
VERSION:2.0
PRODID:-//Columbia Valley Tourism Guide - Invermere BC | Official Travel Guide &amp; Events Calendar - ECPv4.2.3//NONSGML v1.0//EN
CALSCALE:GREGORIAN
METHOD:PUBLISH
X-WR-CALNAME:Columbia Valley Tourism Guide - Invermere BC | Official Travel Guide &amp; Events Calendar
X-ORIGINAL-URL:https://columbiavalley.com
X-WR-CALDESC:Events for Columbia Valley Tourism Guide - Invermere BC | Official Travel Guide &amp; Events Calendar
BEGIN:VEVENT
DTSTART;TZID=UTC-7:20160521T090000
DTEND;TZID=UTC-7:20160521T130000
DTSTAMP:20260420T083446
CREATED:20160508T223234
LAST-MODIFIED:20160511T163113
UID:12213-1463821200-1463835600@columbiavalley.com
SUMMARY:Spring Garage Sale
DESCRIPTION:The Spring Garage Sale at the Invermere Legion is a multi-vendor sale with loads of great bargains for every member of the family. Clothes\, toys\, books\, white elephants - you name it- we'll most likely have it! Bring the gang and do some serious shopping!\n\nYou can also  be a vendor. Rent your own table for $10. Phone 250-688-0640 to reserve yours.
URL:https://columbiavalley.com/events/spring-garage-sale/
LOCATION:525 - 13 Street\, Invermere
GEO:50.5025437;-116.0234134
X-APPLE-STRUCTURED-LOCATION;VALUE=URI;X-ADDRESS=525 - 13 Street Invermere;X-APPLE-RADIUS=500;X-TITLE=525 - 13 Street:geo:-116.0234134,50.5025437
ATTACH;FMTTYPE=image/jpeg:https://columbiavalley.com/wp-content/uploads/2016/05/flea-market-467729_960_720-e1462742767296.jpg
END:VEVENT
END:VCALENDAR