BEGIN:VCALENDAR
VERSION:2.0
PRODID:-//Columbia Valley Tourism Guide - Invermere BC | Official Travel Guide &amp; Events Calendar - ECPv4.2.3//NONSGML v1.0//EN
CALSCALE:GREGORIAN
METHOD:PUBLISH
X-WR-CALNAME:Columbia Valley Tourism Guide - Invermere BC | Official Travel Guide &amp; Events Calendar
X-ORIGINAL-URL:https://columbiavalley.com
X-WR-CALDESC:Events for Columbia Valley Tourism Guide - Invermere BC | Official Travel Guide &amp; Events Calendar
BEGIN:VEVENT
DTSTART;TZID=UTC-7:20160415T113000
DTEND;TZID=UTC-7:20160415T113000
DTSTAMP:20260420T120028
CREATED:20160404T183628
LAST-MODIFIED:20160412T221219
UID:8050-1460719800-1460719800@columbiavalley.com
SUMMARY:Soups on at the Golden Seniors Centre!
DESCRIPTION:Every 4th Friday from September to June\, the Golden Seniors Centre hosts a delicious lunch for all seniors. The menu includes your choice of 1 of 3 soups\, a bun with butter\, dessert and tea/coffee. Come on out. Bring a friend or two. Make some new ones too.
URL:https://columbiavalley.com/events/soups-on-golden-seniors/2016-04-15/
LOCATION:1401 - 9th Street South\, Golden
GEO:51.296459;-116.954004
X-APPLE-STRUCTURED-LOCATION;VALUE=URI;X-ADDRESS=1401 - 9th Street South Golden;X-APPLE-RADIUS=500;X-TITLE=1401 - 9th Street South:geo:-116.954004,51.296459
CATEGORIES:Food & Drink
ATTACH;FMTTYPE=image/jpeg:https://columbiavalley.com/wp-content/uploads/2016/04/food-1234483_960_720-e1459794517509.jpg
END:VEVENT
END:VCALENDAR