BEGIN:VCALENDAR
VERSION:2.0
PRODID:-//Columbia Valley Tourism Guide - Invermere BC | Official Travel Guide &amp; Events Calendar - ECPv4.2.3//NONSGML v1.0//EN
CALSCALE:GREGORIAN
METHOD:PUBLISH
X-WR-CALNAME:Columbia Valley Tourism Guide - Invermere BC | Official Travel Guide &amp; Events Calendar
X-ORIGINAL-URL:https://columbiavalley.com
X-WR-CALDESC:Events for Columbia Valley Tourism Guide - Invermere BC | Official Travel Guide &amp; Events Calendar
BEGIN:VEVENT
DTSTART;TZID=America/Edmonton:20171125T173000
DTEND;TZID=America/Edmonton:20171125T180000
DTSTAMP:20260421T082110
CREATED:20171101T235853
LAST-MODIFIED:20180724T200404
UID:24711-1511631000-1511632800@columbiavalley.com
SUMMARY:Santa Claus is coming to Cranbrook!
DESCRIPTION:The Cranbrook Santa Claus Parade is\, for the 47th year\, bringing the Christmas season to the city\, along with the jolly old elf in the red suit with his sleigh and his 8 reindeer - let's see\, there'll be Dasher and Dancer\, Prancer and Vixen\, Comet\, Cupid\, Donder and Blitzen and then\, of course\, Rudolph who has the honor of leading the team. Santa will be accompanied by elves\, colorful floats and marching bands. The theme for this year's parade is 'Flannel and Frost'.\n\nThe parade will move along Baker Street in downtown Cranbrook.\n\nIt's going to be a fun time for everyone so make a point to be here. It's be best way we know to get into the Christmas spirit!\n\nNote: The Cranbrook Santa Claus parade is going to be on Saturday this year\, instead of the traditional Friday.
URL:https://columbiavalley.com/events/santa-claus-coming-cranbrook/
GEO:49.51213;-115.764089
CATEGORIES:Annual Events,Cranbrook,Fairs & Festivals
ATTACH;FMTTYPE=image/jpeg:https://columbiavalley.com/wp-content/uploads/2017/11/cranbrook-santa-claus-parade-1.jpg
END:VEVENT
END:VCALENDAR