BEGIN:VCALENDAR
VERSION:2.0
PRODID:-//Columbia Valley Tourism Guide - Invermere BC | Official Travel Guide &amp; Events Calendar - ECPv4.2.3//NONSGML v1.0//EN
CALSCALE:GREGORIAN
METHOD:PUBLISH
X-WR-CALNAME:Columbia Valley Tourism Guide - Invermere BC | Official Travel Guide &amp; Events Calendar
X-ORIGINAL-URL:https://columbiavalley.com
X-WR-CALDESC:Events for Columbia Valley Tourism Guide - Invermere BC | Official Travel Guide &amp; Events Calendar
BEGIN:VEVENT
DTSTART;TZID=America/Edmonton:20170223T090000
DTEND;TZID=America/Edmonton:20170223T090000
DTSTAMP:20260420T094536
CREATED:20170220T212343
LAST-MODIFIED:20170221T013559
UID:21122-1487840400-1487840400@columbiavalley.com
SUMMARY:Opioid Overdose Public Presentation
DESCRIPTION:The public is invited to attend an opioid overdose presentation in the Cedar Room at the Fairmont Hot Springs Resort.\n\nSpeaker Jeff Burko\, the executive director of PEAK Emergency Response Training\, will be talking to us about "The Dangers of Opioid Overdose"\, which the police\, medical professionals\, and media are referring to as an 'epidemic' in BC.\n\nOur community has been touched by this ongoing crisis and we do not want to sit quietly and do nothing\, so please attend the presentation and get informed and educated. We need to protect ourselves\, our loved ones and our community.\n\nPlease pass this message on to your friends and family. If this presentation can stop an overdose then we are doing our job.
URL:https://columbiavalley.com/events/opioid-overdose-dangers/
LOCATION:5225 Fairmont Resort Road\, Fairmont Hot Springs
GEO:50.3281886;-115.8426846
X-APPLE-STRUCTURED-LOCATION;VALUE=URI;X-ADDRESS=5225 Fairmont Resort Road Fairmont Hot Springs;X-APPLE-RADIUS=500;X-TITLE=5225 Fairmont Resort Road:geo:-115.8426846,50.3281886
CATEGORIES:Educational & Business,Health & Wellness
ATTACH;FMTTYPE=image/png:https://columbiavalley.com/wp-content/uploads/2017/02/meeting.png
END:VEVENT
END:VCALENDAR