BEGIN:VCALENDAR
VERSION:2.0
PRODID:-//Columbia Valley Tourism Guide - Invermere BC | Official Travel Guide &amp; Events Calendar - ECPv4.2.3//NONSGML v1.0//EN
CALSCALE:GREGORIAN
METHOD:PUBLISH
X-WR-CALNAME:Columbia Valley Tourism Guide - Invermere BC | Official Travel Guide &amp; Events Calendar
X-ORIGINAL-URL:https://columbiavalley.com
X-WR-CALDESC:Events for Columbia Valley Tourism Guide - Invermere BC | Official Travel Guide &amp; Events Calendar
BEGIN:VEVENT
DTSTART;TZID=America/Edmonton:20171231T180000
DTEND;TZID=America/Edmonton:20171231T220000
DTSTAMP:20260422T224857
CREATED:20171103T211620
LAST-MODIFIED:20171108T203444
UID:24750-1514743200-1514757600@columbiavalley.com
SUMMARY:New Years Eve Community Celebration
DESCRIPTION:The New Years Eve community celebration at Kicking Horse Mountain Resort makes a huge year-end splash for the residents of Golden.\n\nFamilies bundle up the kids and everyone heads up the mountain to the Kicking Horse Plaza for an evening of spectacular entertainment as we say good-bye to 2017 and welcome in a brand-new 2018.\n\nThere's a torchlight parade to begin the celebration\, then fire shows\, performances\, a live band and a fireworks finale!\n\nPut the New Years Eve community celebration on your holiday must-do list and join us for a wonderful evening!
URL:https://columbiavalley.com/events/new-years-eve-community-celebration-golden/
LOCATION:1500 Kicking Horse Trail\, Golden
GEO:51.298787;-117.0483911
X-APPLE-STRUCTURED-LOCATION;VALUE=URI;X-ADDRESS=1500 Kicking Horse Trail Golden;X-APPLE-RADIUS=500;X-TITLE=1500 Kicking Horse Trail:geo:-117.0483911,51.298787
CATEGORIES:Arts & Entertainment,Golden
ATTACH;FMTTYPE=image/jpeg:https://columbiavalley.com/wp-content/uploads/2017/11/fireworks.jpg
END:VEVENT
END:VCALENDAR