BEGIN:VCALENDAR
VERSION:2.0
PRODID:-//Columbia Valley Tourism Guide - Invermere BC | Official Travel Guide &amp; Events Calendar - ECPv4.2.3//NONSGML v1.0//EN
CALSCALE:GREGORIAN
METHOD:PUBLISH
X-WR-CALNAME:Columbia Valley Tourism Guide - Invermere BC | Official Travel Guide &amp; Events Calendar
X-ORIGINAL-URL:https://columbiavalley.com
X-WR-CALDESC:Events for Columbia Valley Tourism Guide - Invermere BC | Official Travel Guide &amp; Events Calendar
BEGIN:VEVENT
DTSTART;TZID=UTC-6:20160521T190000
DTEND;TZID=UTC-6:20160521T190000
DTSTAMP:20260420T082310
CREATED:20160518T154259
LAST-MODIFIED:20160518T154259
UID:12463-1463857200-1463857200@columbiavalley.com
SUMMARY:Music For Life
DESCRIPTION:Music For Life is a celebration of the love of music by talented area musicians of all ages. Arne Sahlen will be presenting a variety of music\, humor and history.\n\nThe event proceeds will go to the development of music in our region.\n\nFor more information about the event\, you may contact Arne at 250-540-4242 or arnesahlen@hotmail.com.
URL:https://columbiavalley.com/events/music-for-life/
LOCATION:110 - 7th Avenue\, Invermere\, Canada
GEO:50.512872;-116.030767
X-APPLE-STRUCTURED-LOCATION;VALUE=URI;X-ADDRESS=110 - 7th Avenue Invermere Canada;X-APPLE-RADIUS=500;X-TITLE=110 - 7th Avenue:geo:-116.030767,50.512872
CATEGORIES:Arts & Entertainment
ATTACH;FMTTYPE=image/jpeg:https://columbiavalley.com/wp-content/uploads/2016/05/piano-1106497_960_720-e1463339733262.jpg
END:VEVENT
END:VCALENDAR