BEGIN:VCALENDAR
VERSION:2.0
PRODID:-//Columbia Valley Tourism Guide - Invermere BC | Official Travel Guide &amp; Events Calendar - ECPv4.2.3//NONSGML v1.0//EN
CALSCALE:GREGORIAN
METHOD:PUBLISH
X-WR-CALNAME:Columbia Valley Tourism Guide - Invermere BC | Official Travel Guide &amp; Events Calendar
X-ORIGINAL-URL:https://columbiavalley.com
X-WR-CALDESC:Events for Columbia Valley Tourism Guide - Invermere BC | Official Travel Guide &amp; Events Calendar
BEGIN:VEVENT
DTSTART;VALUE=DATE:20160716
DTEND;VALUE=DATE:20160719
DTSTAMP:20260420T093303
CREATED:20160707
LAST-MODIFIED:20180725
UID:14354-1468627200-1468972799@columbiavalley.com
SUMMARY:Canada Cup/BC Cup Mountain Bike Races
DESCRIPTION:The annual Canada Cup/BC Cup Mountain Bike Races are a summer tradition at Panorama Mountain Resort. The event is part of the Dunbar Cycles Summer Series and presented each year by Intense Cycles\, a leading manufacturer of professional class mountain bikes.\n\nCompetitors will be cheered on by special guest and 'Director of Good Times'\, Brett Tippie\,  celebrated as one of the  pioneers of the freeride movement. Brett\, who has been described as having a "larger-than-life personality ..... always with a big smile and a hilarious joke" (bikes.com) has been entertaining and exciting mountain bikers with his extreme style since the early 1990's.\n\nThis year's Canada Cup/ BC Cup Mountain Bike Race event features two new additions to the line-up - the Grass Stains Dual Slalom and the Kid's Race - plus fantastic prizes too!\n\nSee the schedule of events at: http://panoramaresort.com/event-details/index.cfm?eID=280&occID=4544\n\n[the_ad_placement id="invermere-in-content"]
URL:https://columbiavalley.com/events/mountain-bike-race/
LOCATION:2000 Panorama Drive\, Panorama
GEO:50.460262;-116.238325
X-APPLE-STRUCTURED-LOCATION;VALUE=URI;X-ADDRESS=2000 Panorama Drive Panorama;X-APPLE-RADIUS=500;X-TITLE=2000 Panorama Drive:geo:-116.238325,50.460262
CATEGORIES:Annual Events,Panorama,Recreation & Sports
ATTACH;FMTTYPE=image/jpeg:https://columbiavalley.com/wp-content/uploads/2016/07/canada-cup-2015.jpg
END:VEVENT
END:VCALENDAR