BEGIN:VCALENDAR
VERSION:2.0
PRODID:-//Columbia Valley Tourism Guide - Invermere BC | Official Travel Guide &amp; Events Calendar - ECPv4.2.3//NONSGML v1.0//EN
CALSCALE:GREGORIAN
METHOD:PUBLISH
X-WR-CALNAME:Columbia Valley Tourism Guide - Invermere BC | Official Travel Guide &amp; Events Calendar
X-ORIGINAL-URL:https://columbiavalley.com
X-WR-CALDESC:Events for Columbia Valley Tourism Guide - Invermere BC | Official Travel Guide &amp; Events Calendar
BEGIN:VEVENT
DTSTART;VALUE=DATE:20190706
DTEND;VALUE=DATE:20190706
DTSTAMP:20260421T081943
CREATED:20180430
LAST-MODIFIED:20190611
UID:26891-1562371200-1562457599@columbiavalley.com
SUMMARY:Mountain Al Fresco
DESCRIPTION:Mountain Al Fresco\, an annual flash-mob-style dinner event with a unique Columbia Valley flavor\, is held at a different secret location each year and the location is not made known until hours before the evening begins. The meal is elegant\, the wine spectacular and everything\, from the attire of the guests to the table-coverings\, is white.\n\nThis is the fifth annual event. Sit back or kick off those white shoes and dance! Enjoy dining al fresco at Invermere's Mountain Al Fresco... A dining experience in white!\n\nMusic will be provided by Smarty Pants and Dj Wild Bill.\n\nPurchase tickets online at: http://mountainalfresco.com\n\nThis is an Adults-only event\nAll guests must wear white attire - No exceptions\n\nFor more information\, contact Cortney Pitts at the District of Invermere (250-342-9281 Ext. 1232)\n\n\n\n[the_ad_placement id="invermere-in-content"]
URL:https://columbiavalley.com/events/mountain-al-fresco/
GEO:50.515611;-115.999285
CATEGORIES:Annual Events,Food & Drink,Invermere,Social & Community
ATTACH;FMTTYPE=image/jpeg:https://columbiavalley.com/wp-content/uploads/2018/04/mountain-al-fresco.jpg
ORGANIZER;CN="District%20of%20Invermere":MAILTO:events@invermere.net
END:VEVENT
END:VCALENDAR