BEGIN:VCALENDAR
VERSION:2.0
PRODID:-//Columbia Valley Tourism Guide - Invermere BC | Official Travel Guide &amp; Events Calendar - ECPv4.2.3//NONSGML v1.0//EN
CALSCALE:GREGORIAN
METHOD:PUBLISH
X-WR-CALNAME:Columbia Valley Tourism Guide - Invermere BC | Official Travel Guide &amp; Events Calendar
X-ORIGINAL-URL:https://columbiavalley.com
X-WR-CALDESC:Events for Columbia Valley Tourism Guide - Invermere BC | Official Travel Guide &amp; Events Calendar
BEGIN:VEVENT
DTSTART;TZID=America/Edmonton:20180227T190000
DTEND;TZID=America/Edmonton:20180227T210000
DTSTAMP:20260420T121831
CREATED:20180214T171406
LAST-MODIFIED:20180215T040113
UID:26214-1519758000-1519765200@columbiavalley.com
SUMMARY:Meditation Park: Cinefest 2018 Winter series
DESCRIPTION:In Meditation Park\, Mina Shum return to the themes that propelled her early work. The film opens with Maria (Cheng Pei Pei\, Crouching Tiger\, Hidden Dragon) hosting a birthday celebration for her workaholic husband\, Bing (Tzi Ma). Maria revers Bing and remains in awe of the sacrifices he has made for the family\, so much so that she even respects his insistence that she not speak to their son after a long-ago slight.\n\nBut when she finds evidence that Bing may not be the perfect person she believes him to be\, she’s forced to consider her world in a radically different light. Maria embarks on a journey of self-discovery by engaging with the world around her\, something Bing has always discouraged. She befriends a group of local eccentrics and a rather shady neighbour\, Gabriel (Don McKellar). Maria soon realizes that people’s lives are much more complicated than Bing has led her to believe.\n\nShum exhibits genuine compassion with her insight into the experience of first-generation immigrant women (including how men control their lives by discouraging them from social interaction and learning other languages).\n\nhttps://www.youtube.com/watch?v=0GQhbqJcjjM\n\nMeditation Park is a charming and generous film\, boasting fine performances by its leads and great support by McKellar\, Liane Balaban and the star of Shum’s debut\, the phenomenal Sandra Oh as Maria’s daughter.\n\n“Shum mines her favourite theme – immigrant experience in Canada – in what seems at first to be a gentle slice of life but eventually develops a powerful emotional force.” – Susan G. Cole\, NOW Magazine\n\ntext courtesy of CV Arts)\n\nDoors open at 6:30 pm. Film starts at 7:00 pm.\n\nTickets available at the door.\n\nCost:\n\n \tRegular adult – $12\n \tCV Arts Members – $11\n \tKids 13 & under – $5\n\nFor more information about this and future Cinefest films\, please visit: http://columbiavalleyarts.com
URL:https://columbiavalley.com/events/meditation-park-cinefest-2018-winter-series/
LOCATION:1720 - 4th Avenue\, Invermere
GEO:50.4978;-116.024401
X-APPLE-STRUCTURED-LOCATION;VALUE=URI;X-ADDRESS=1720 - 4th Avenue Invermere;X-APPLE-RADIUS=500;X-TITLE=1720 - 4th Avenue:geo:-116.024401,50.4978
CATEGORIES:Arts & Entertainment,Invermere
ATTACH;FMTTYPE=image/png:https://columbiavalley.com/wp-content/uploads/2018/02/cinefest-winter-2018.png
END:VEVENT
END:VCALENDAR