BEGIN:VCALENDAR
VERSION:2.0
PRODID:-//Columbia Valley Tourism Guide - Invermere BC | Official Travel Guide &amp; Events Calendar - ECPv4.2.3//NONSGML v1.0//EN
CALSCALE:GREGORIAN
METHOD:PUBLISH
X-WR-CALNAME:Columbia Valley Tourism Guide - Invermere BC | Official Travel Guide &amp; Events Calendar
X-ORIGINAL-URL:https://columbiavalley.com
X-WR-CALDESC:Events for Columbia Valley Tourism Guide - Invermere BC | Official Travel Guide &amp; Events Calendar
BEGIN:VEVENT
DTSTART;TZID=UTC-7:20160521T110000
DTEND;TZID=UTC-7:20160521T140000
DTSTAMP:20260420T082552
CREATED:20160511T021142
LAST-MODIFIED:20180502T224125
UID:12335-1463828400-1463839200@columbiavalley.com
SUMMARY:March Against Monsanto
DESCRIPTION:The March Against Monsanto is one of the largest annual protests in the world. Millions are preparing to march together on May 21st to raise awareness and bring about the change that our world so desperately needs. It’s happening everywhere simultaneously!\n\nThe 3rd annual Cranbrook March Against Monsanto event will take place at Baker Park. It’s a peace-loving\, family-friendly event. Kids and pets can dress up as bees and butterflies and\, if you have a t-shirt with an earth-friendly slogan\, wear it too.\n\nA fun day has been planned\, with a new route for the march and over $300 in great non-GMO prizes donated by local businesses. There will be balloons for the younger crowd and a sign-making station – or bring your own! And a fabulous FREE draw. From 11AM until noon\, we’ll enjoy some socializing and then the march through downtown will take about 1 1/2 hours.\n\nTune in to the event’s facebook page for updates as they come in and let’s get out there and let Monsanto know that we’ve had enough – more than enough – and we mean business!\n\nAn added bit of nasty trivia for you. Did you know that Monsanto’s BC production facility is located right here in Cranbrook?\n\nKeep updated about the March Against Monsanto on the event facebook page: https://www.facebook.com/events/961936520580210/
URL:https://columbiavalley.com/events/march-against-monsanto/
LOCATION:Cranbrook
GEO:49.510159;-115.760626
CATEGORIES:Annual Events,Educational & Business
ATTACH;FMTTYPE=image/jpeg:https://columbiavalley.com/wp-content/uploads/2016/05/monsanto_march_1000_2.jpg
END:VEVENT
END:VCALENDAR