BEGIN:VCALENDAR
VERSION:2.0
PRODID:-//Columbia Valley Tourism Guide - Invermere BC | Official Travel Guide &amp; Events Calendar - ECPv4.2.3//NONSGML v1.0//EN
CALSCALE:GREGORIAN
METHOD:PUBLISH
X-WR-CALNAME:Columbia Valley Tourism Guide - Invermere BC | Official Travel Guide &amp; Events Calendar
X-ORIGINAL-URL:https://columbiavalley.com
X-WR-CALDESC:Events for Columbia Valley Tourism Guide - Invermere BC | Official Travel Guide &amp; Events Calendar
BEGIN:VEVENT
DTSTART;TZID=America/Edmonton:20180419T193000
DTEND;TZID=America/Edmonton:20180419T193000
DTSTAMP:20260420T144621
CREATED:20170906T005411
LAST-MODIFIED:20180315T045449
UID:24120-1524166200-1524166200@columbiavalley.com
SUMMARY:LIVE Kicks presents: Steve Dawson’s Black Hen Roadshow
DESCRIPTION:Steve Dawson’s Black Hen Roadshow is an unforgettable roots-music evening featuring Steve Marriner\, Ndidi Onukwulu & Leeroy Stagger!\n\nSerious guitar devotees doubtless recognize “Black Hen” as the personal label of the incomparable Steve Dawson\, the virtuoso six-stringer who has produced or played on more than 80 CDs – seven of which have won Junos.\n\nAnd the Black Hen Roadshow\, now in its third incarnation\, is Steve’s uniquely exciting touring showcase of stellar roots talent. This year’s line-up includes Steve Marriner\, best known as the dynamic front man for legendary blues trio MoneyJunk. After starting out as a teen prodigy on harmonica\, Marriner was later acclaimed as “harmonica player of the year” at the Maple Blues Awards an amazing four years running. This full-fledged ambassador of the blues is also an eloquent singer and plays a fine baritone guitar.\n\nSteve has also picked the remarkably versatile and compelling vocalist Ndidi Onukwulu. Although primarily regarded as a blues performer\, Ndidi incorporates aspects of gospel\, folk\, jazz\, country\, and even surf into her sound. An expressive and emotional singer\, Ndidi is also a great songwriter known for tackling serious themes.\n\nRounding off the front line is Leeroy Stagger. With an 11th CD just out\, Leeroy’s ear-grabbing blend of roots\, rock\, alt-country and pop has confirmed his status as one of this country’s finest and most original singer-songwriters. He’s played with Steve Earle and Modest Mouse and had his songs appear on TV shows Grey’s Anatomy and Sons of Anarchy.\n\nAnchoring this remarkable blend of solo and group performance will be the very standup bassist Jeremy Holmes. In short\, Steve Dawson's Black Hen Roadshow  offers Golden’s roots-music fans an evening of unforgettable musical performance delivered by an all-star lineup.\n\n(text courtesy of KHC)\n\nTickets for Steve Dawson's Black Hen Roadshow: On Sale September 11. Purchase tickets:\n\n \tat the Box Office at the Art Gallery of Golden (516 9 Ave N)\n \tby phone to: 250 344-6186\n\nTicket Cost:\n\n \tthe first 75 tickets for Members - $15 (+tax)\n \tafter that\, Member’s regular advance tickets - $20 (+tax)\n \tMembers and Non-Members at the door - $25 (+tax)\n \tStudents always $5 (+tax)\n\n
URL:https://columbiavalley.com/events/live-kicks-presents-steve-dawsons-black-hen-roadshow/
LOCATION:806 - 10th Avenue South\, Golden
GEO:51.297296;-116.962654
X-APPLE-STRUCTURED-LOCATION;VALUE=URI;X-ADDRESS=806 - 10th Avenue South Golden;X-APPLE-RADIUS=500;X-TITLE=806 - 10th Avenue South:geo:-116.962654,51.297296
CATEGORIES:Arts & Entertainment,Golden
ATTACH;FMTTYPE=image/jpeg:https://columbiavalley.com/wp-content/uploads/2017/09/black-hen-roadshow.jpg
ORGANIZER;CN="Golden%20District%20Arts%20Council%20%28KHC%29":MAILTO:info@kickinghorseculture.ca
END:VEVENT
END:VCALENDAR