BEGIN:VCALENDAR
VERSION:2.0
PRODID:-//Columbia Valley Tourism Guide - Invermere BC | Official Travel Guide &amp; Events Calendar - ECPv4.2.3//NONSGML v1.0//EN
CALSCALE:GREGORIAN
METHOD:PUBLISH
X-WR-CALNAME:Columbia Valley Tourism Guide - Invermere BC | Official Travel Guide &amp; Events Calendar
X-ORIGINAL-URL:https://columbiavalley.com
X-WR-CALDESC:Events for Columbia Valley Tourism Guide - Invermere BC | Official Travel Guide &amp; Events Calendar
BEGIN:VEVENT
DTSTART;TZID=UTC-6:20160607T180000
DTEND;TZID=UTC-6:20160607T180000
DTSTAMP:20260420T083622
CREATED:20160524T204856
LAST-MODIFIED:20160529T025743
UID:12821-1465322400-1465322400@columbiavalley.com
SUMMARY:Burger BBQ at the Legion!
DESCRIPTION:The Burger BBQ at the Legion follows the afternoon golf tournament at The Ridge. Everyone's invited to join in the fun! We all love a burger\, sizzling hot off the grill. Bring the whole family. There's enough for everybody!\n\nReservations recommended. Call 250-342-2517\n\n 
URL:https://columbiavalley.com/events/legion-burger-bbq/
LOCATION:525 - 13 Street\, Invermere
GEO:50.5025437;-116.0234134
X-APPLE-STRUCTURED-LOCATION;VALUE=URI;X-ADDRESS=525 - 13 Street Invermere;X-APPLE-RADIUS=500;X-TITLE=525 - 13 Street:geo:-116.0234134,50.5025437
CATEGORIES:Food & Drink
ATTACH;FMTTYPE=image/jpeg:https://columbiavalley.com/wp-content/uploads/2016/05/burger-783551_960_720-e1464107839641.jpg
END:VEVENT
END:VCALENDAR