BEGIN:VCALENDAR
VERSION:2.0
PRODID:-//Columbia Valley Tourism Guide - Invermere BC | Official Travel Guide &amp; Events Calendar - ECPv4.2.3//NONSGML v1.0//EN
CALSCALE:GREGORIAN
METHOD:PUBLISH
X-WR-CALNAME:Columbia Valley Tourism Guide - Invermere BC | Official Travel Guide &amp; Events Calendar
X-ORIGINAL-URL:https://columbiavalley.com
X-WR-CALDESC:Events for Columbia Valley Tourism Guide - Invermere BC | Official Travel Guide &amp; Events Calendar
BEGIN:VEVENT
DTSTART;TZID=UTC-6:20161028T190000
DTEND;TZID=UTC-6:20161028T190000
DTSTAMP:20260420T082327
CREATED:20161009T014020
LAST-MODIFIED:20161026T174814
UID:17449-1477681200-1477681200@columbiavalley.com
SUMMARY:Johnny Summers at Strand's
DESCRIPTION:[caption id="attachment_18159" align="alignright" width="193"] Click to view poster[/caption]\nJohnny Summers\, Canadian-based musician extraordinaire\, is about to light up the stage at Strand's Old House Restaurant in Invermere.  Trumpet player\, composer\, arranger\, director and producer\, Johnny wears all the hats!  From the initial spark of an idea\, all the way to the finished production\, this incredibly talented musician is full-on\, hands-on\, the complete package!  He performs\, composes and records\, and along the way\, he inspires those who work with him to reach for their utmost. The end result will leave you with only one word - "Wow!"\n\nSince he began his professional music career in 1999\,  Johnny Summers has studied and performed with shining stars like Maria Schneider\, Guido Basso\, Hilario Duran\, Dee Daniels\, Tommy Banks\, Frankie Valli\, The Temptations and many more.  He has toured in Europe\, Cuba and North America\, won 7 Global Music Awards\, including Best Male Vocalist and Best Album.\n\nJazz is his forte - traditional and modern - Motown\, soul funk and blues - with the easy\, relaxed flavor of the Big Band Era and legendary crooners like Sinatra and Crosby.\n\nFor more information about Johnny Summers and to listen to his music\, visit: http://johnnysummers.com/\n\nMake your reservation now. The evening is sure to be a sell-out!\n\nShare this with your friends!\n\n 
URL:https://columbiavalley.com/events/johnny-summers-strands/
LOCATION:818 - 12th Street\, Invermere\, BC
GEO:50.5046018;-116.0308441
X-APPLE-STRUCTURED-LOCATION;VALUE=URI;X-ADDRESS=818 - 12th Street Invermere BC;X-APPLE-RADIUS=500;X-TITLE=818 - 12th Street:geo:-116.0308441,50.5046018
CATEGORIES:Arts & Entertainment
ATTACH;FMTTYPE=image/jpeg:https://columbiavalley.com/wp-content/uploads/2016/10/johnny_summers_1000_3.jpg
END:VEVENT
END:VCALENDAR