BEGIN:VCALENDAR
VERSION:2.0
PRODID:-//Columbia Valley Tourism Guide - Invermere BC | Official Travel Guide &amp; Events Calendar - ECPv4.2.3//NONSGML v1.0//EN
CALSCALE:GREGORIAN
METHOD:PUBLISH
X-WR-CALNAME:Columbia Valley Tourism Guide - Invermere BC | Official Travel Guide &amp; Events Calendar
X-ORIGINAL-URL:https://columbiavalley.com
X-WR-CALDESC:Events for Columbia Valley Tourism Guide - Invermere BC | Official Travel Guide &amp; Events Calendar
BEGIN:VEVENT
DTSTART;TZID=UTC+0:20160304T183000
DTEND;TZID=UTC+0:20160304T183000
DTSTAMP:20260420T104717
CREATED:20160221T114919
LAST-MODIFIED:20160304T180224
UID:9382-1457116200-1457116200@columbiavalley.com
SUMMARY:John Jenkins' Small Town Revival
DESCRIPTION:Strand's is having a Small Town Revival!\n\nJohn Jenkins has small town in his blood and in his music. Based in Golden BC\, his ‘Small Town Revival’ is a Two-Man Trio Show but if you close your eyes and just listen\, you’ll swear there’s a whole band happening.\n\nImmensely talented\, John does vocals and plays acoustic and electric guitar\, harmonica\, kick drum\, foot snare and hi-hat. His mate\, Jackson Baker does vocals and plays bass. They’ll entertain you with Roots\, Rock\, Blues\, Funk and Folk.\n\nJohn has been performing for 13 years\, touring and fronting many groups such as The Breakmen\, Shane Philip\, Shred Kelly\, Tim Hus\, and many more.\n\nThere will not be a cover charge for this event but a musical gratuity would be gratefully appreciated.\n\nPhone Strand’s Old House Restaurant for reservations as seating is limited.
URL:https://columbiavalley.com/events/john-jenkins-small-town-revival/
LOCATION:818 - 12th Street\, Invermere\, BC
GEO:50.5046018;-116.0308441
X-APPLE-STRUCTURED-LOCATION;VALUE=URI;X-ADDRESS=818 - 12th Street Invermere BC;X-APPLE-RADIUS=500;X-TITLE=818 - 12th Street:geo:-116.0308441,50.5046018
CATEGORIES:Arts & Entertainment,Food & Drink
ATTACH;FMTTYPE=image/jpeg:https://columbiavalley.com/wp-content/uploads/2016/02/john_jenkins_strands_1000.jpg
END:VEVENT
END:VCALENDAR