BEGIN:VCALENDAR
VERSION:2.0
PRODID:-//Columbia Valley Tourism Guide - Invermere BC | Official Travel Guide &amp; Events Calendar - ECPv4.2.3//NONSGML v1.0//EN
CALSCALE:GREGORIAN
METHOD:PUBLISH
X-WR-CALNAME:Columbia Valley Tourism Guide - Invermere BC | Official Travel Guide &amp; Events Calendar
X-ORIGINAL-URL:https://columbiavalley.com
X-WR-CALDESC:Events for Columbia Valley Tourism Guide - Invermere BC | Official Travel Guide &amp; Events Calendar
BEGIN:VEVENT
DTSTART;VALUE=DATE:20180707
DTEND;VALUE=DATE:20180707
DTSTAMP:20260420T094725
CREATED:20160228
LAST-MODIFIED:20180725
UID:10043-1530921600-1531007999@columbiavalley.com
SUMMARY:Invermere Young Hearts Triathlon
DESCRIPTION:The focus of the Invermere Young Hearts Triathlon for children ages 4 to 15 is enjoyment and participation.  Awards will be presented to every participant upon crossing the finish line.  Times will be recorded for each child and posted by age category on our website as soon after the event as possible.\n\nThe venue for the event is Kinsmen Beach and the immediate area locally known as Fort Point in Invermere\, BC. The race course is safe and contained (only one access and exit point) in a quiet neighborhood with very light vehicular traffic.  There are six age categories (4-5\, 6-7\, 8-9\, 10-11\, 12-13\, and 14-15). The course distances will not exceed distances as set out by Triathlon Canada for KOS events and will be made up by repeating the run & cycle distances. The Young Hearts Triathlon is sanctioned by Triathlon British Columbia. This is an exciting and unique event for kids which has been enjoyed by families since 2010.\n\nDetails of the event are available:\n\n \tvia the website: http://heartoftherockiestri.ca\n \tby phoning: Tom Bamford\, Race Director: (403) 542-5422 or\nBruce Stroud\, Race Chairman: (250) 342-3373\n \tsending an email to: info@heartoftherockiestri.ca\n\nOnline Registration for the Invermere Young Hearts Triathlon is now open online at: http://heartoftherockiestri.ca/yht_registration.html\n\nFacebook: https://facebook.com/heartoftherockiestri/\n\n[metaslider id=21036]\n\n[the_ad_placement id="invermere-in-content"]
URL:https://columbiavalley.com/events/invermere-young-hearts-triathlon/
LOCATION:Kinsmen Park\, Invermere
GEO:50.497392;-116.025737
X-APPLE-STRUCTURED-LOCATION;VALUE=URI;X-ADDRESS=Kinsmen Park Invermere;X-APPLE-RADIUS=500;X-TITLE=Kinsmen Park:geo:-116.025737,50.497392
CATEGORIES:Annual Events,Invermere,Kids & Youth,Recreation & Sports
ATTACH;FMTTYPE=image/jpeg:https://columbiavalley.com/wp-content/uploads/2017/02/01-lotsa-kids-on-bikes.jpg
END:VEVENT
END:VCALENDAR