BEGIN:VCALENDAR
VERSION:2.0
PRODID:-//Columbia Valley Tourism Guide - Invermere BC | Official Travel Guide &amp; Events Calendar - ECPv4.2.3//NONSGML v1.0//EN
CALSCALE:GREGORIAN
METHOD:PUBLISH
X-WR-CALNAME:Columbia Valley Tourism Guide - Invermere BC | Official Travel Guide &amp; Events Calendar
X-ORIGINAL-URL:https://columbiavalley.com
X-WR-CALDESC:Events for Columbia Valley Tourism Guide - Invermere BC | Official Travel Guide &amp; Events Calendar
BEGIN:VEVENT
DTSTART;TZID=UTC-7:20161110T120000
DTEND;TZID=UTC-7:20161110T120000
DTSTAMP:20260421T083304
CREATED:20160408T003910
LAST-MODIFIED:20161104T205001
UID:11131-1478779200-1478779200@columbiavalley.com
SUMMARY:Seniors Luncheon at the Legion
DESCRIPTION:Invermere Legion Seniors Luncheons are always delicious surprises! And they are priced just right too. Why not invite a friend to be your guest?\n\nReservations are required. Call 250-342-9281 (ext. 1232) or email events@invermere.net\n\nNote: The image displayed here may not be an accurate representation of the planned menu.
URL:https://columbiavalley.com/events/invermere-seniors-luncheon/
LOCATION:525 - 13 Street\, Invermere
GEO:50.5025437;-116.0234134
X-APPLE-STRUCTURED-LOCATION;VALUE=URI;X-ADDRESS=525 - 13 Street Invermere;X-APPLE-RADIUS=500;X-TITLE=525 - 13 Street:geo:-116.0234134,50.5025437
CATEGORIES:Food & Drink
ATTACH;FMTTYPE=image/jpeg:https://columbiavalley.com/wp-content/uploads/2016/04/salad-1033209_960_720-e1460577502875.jpg
ORGANIZER;CN="District%20of%20Invermere":MAILTO:events@invermere.net
END:VEVENT
END:VCALENDAR