BEGIN:VCALENDAR
VERSION:2.0
PRODID:-//Columbia Valley Tourism Guide - Invermere BC | Official Travel Guide &amp; Events Calendar - ECPv4.2.3//NONSGML v1.0//EN
CALSCALE:GREGORIAN
METHOD:PUBLISH
X-WR-CALNAME:Columbia Valley Tourism Guide - Invermere BC | Official Travel Guide &amp; Events Calendar
X-ORIGINAL-URL:https://columbiavalley.com
X-WR-CALDESC:Events for Columbia Valley Tourism Guide - Invermere BC | Official Travel Guide &amp; Events Calendar
BEGIN:VEVENT
DTSTART;TZID=UTC-6:20171224T180000
DTEND;TZID=UTC-6:20171224T180000
DTSTAMP:20260420T094804
CREATED:20161217T221710
LAST-MODIFIED:20171105T220652
UID:20044-1514138400-1514138400@columbiavalley.com
SUMMARY:Christmas Eve Service in Invermere
DESCRIPTION:An Invermere Christmas Eve Service will be taking place at Christ Church Trinity this year. You are invited to celebrate the holy season with us at this family event.\n\nFor more information\, contact the Windermere Valley Shared Ministry at: 250-342-6644.
URL:https://columbiavalley.com/events/invermere-christmas-eve-service/
LOCATION:110 - 7th Avenue\, Invermere\, Canada
GEO:50.512872;-116.030767
X-APPLE-STRUCTURED-LOCATION;VALUE=URI;X-ADDRESS=110 - 7th Avenue Invermere Canada;X-APPLE-RADIUS=500;X-TITLE=110 - 7th Avenue:geo:-116.030767,50.512872
CATEGORIES:Annual Events,Invermere
ATTACH;FMTTYPE=image/jpeg:https://columbiavalley.com/wp-content/uploads/2016/12/Christmas_Eve_Christ_Church_Trinity_1000-e1482008744550.jpg
END:VEVENT
END:VCALENDAR