BEGIN:VCALENDAR
VERSION:2.0
PRODID:-//Columbia Valley Tourism Guide - Invermere BC | Official Travel Guide &amp; Events Calendar - ECPv4.2.3//NONSGML v1.0//EN
CALSCALE:GREGORIAN
METHOD:PUBLISH
X-WR-CALNAME:Columbia Valley Tourism Guide - Invermere BC | Official Travel Guide &amp; Events Calendar
X-ORIGINAL-URL:https://columbiavalley.com
X-WR-CALDESC:Events for Columbia Valley Tourism Guide - Invermere BC | Official Travel Guide &amp; Events Calendar
BEGIN:VEVENT
DTSTART;TZID=UTC-6:20161129T190000
DTEND;TZID=UTC-6:20161129T190000
DTSTAMP:20260420T094553
CREATED:20161126T043204
LAST-MODIFIED:20161127T210709
UID:19226-1480446000-1480446000@columbiavalley.com
SUMMARY:Hobnails and Hemp Rope: Film
DESCRIPTION:Hobnails and Hemp Rope is a thrilling\, true-life outdoor adventure documentary in which a group of amateur climbers from the Toronto branch of the Alpine Club of Canada undertook to re-enact\, on its 100th anniversary\, the historic climb by celebrated mountaineer\, Conrad Kain\, of the Bugaboo Spire.\n\nThe four climbers determined to maintain the historical accuracy of the climb\, using only the type of mountaineering equipment that would have been used in the early 1900s. Wearing historic clothing\, they loaded themselves up with wooden ice axes\, hemp rope\, a canvas tent (those things got unbelievably heavy when wet!)\, an ancient kerosene stove and hobnailed boots. Instead of sleeping bags\, they had woolen blankets and  they slept on sometimes-wet spruce branches.This truly was a 'hobnails and hemp rope' adventure and the hobnails were unbelievably heavy and often slipped dangerously!\n\nBefore the film presentation begins\, the Jumbo Creek Conservation Society will hold a short AGM\, after which Columbia Valley climber/photographer Pat Morrow will present background information about Conrad Kain’s famous climb of the Spire in 1916 and show some photos of his own ascents of the Spire.\n\nOrganizer and one of the four members of the group that undertook last summer’s expedition\, Bryan Thompson\, will talk about how the project originated and came together. Other members were Rob LeBlanc\, Garry Reiss and Natalia Danalachi.\n\nGreg Gransden wrote\, produced and directed photography and Ivan Petrov  was the official still photographer who created the photos that are being used in a 2-month-long exhibit at the Banff Whyte Museum.\n\nThis is a film you absolutely will love and don't want to miss. Please mark the date on your calendar and join us.\n\nThe doors open at 7 PM and the meeting starts at 7:30 PM.\n\nTo find out more about the Hobnails and Hemp Rope film\, readers may visit: https://facebook.com/hobnailsandhemp/?fref=nf
URL:https://columbiavalley.com/events/hotnails-hemp-rope/
LOCATION:1535 - 14th Street\, Invermere
GEO:50.5021516;-116.0410705
X-APPLE-STRUCTURED-LOCATION;VALUE=URI;X-ADDRESS=1535 - 14th Street Invermere;X-APPLE-RADIUS=500;X-TITLE=1535 - 14th Street:geo:-116.0410705,50.5021516
CATEGORIES:Arts & Entertainment,Educational & Business,Recreation & Sports
ATTACH;FMTTYPE=image/jpeg:https://columbiavalley.com/wp-content/uploads/2016/11/Hobnails-and-Hemp-Rope-documentary-trailer-e1480305295769.jpeg
END:VEVENT
END:VCALENDAR