BEGIN:VCALENDAR
VERSION:2.0
PRODID:-//Columbia Valley Tourism Guide - Invermere BC | Official Travel Guide &amp; Events Calendar - ECPv4.2.3//NONSGML v1.0//EN
CALSCALE:GREGORIAN
METHOD:PUBLISH
X-WR-CALNAME:Columbia Valley Tourism Guide - Invermere BC | Official Travel Guide &amp; Events Calendar
X-ORIGINAL-URL:https://columbiavalley.com
X-WR-CALDESC:Events for Columbia Valley Tourism Guide - Invermere BC | Official Travel Guide &amp; Events Calendar
BEGIN:VEVENT
DTSTART;TZID=UTC-6:20160921T180000
DTEND;TZID=UTC-6:20160922T193000
DTSTAMP:20260420T082153
CREATED:20160904T035306
LAST-MODIFIED:20160904T035306
UID:16242-1474480800-1474572600@columbiavalley.com
SUMMARY:2nd Harvest Homemade Bread - learn to make it!
DESCRIPTION:Homemade bread - fresh out of the oven and slathered with butter! Is there anything more delicious in the entire universe? Learn how to make your own homemade bread and earn the admiration of your family and friends. It's not as hard as you might think. Actually making bread is pretty easy and kneading the dough is a very satisfying way to let off some steam. If billions and billions of people all over the world have been doing it for longer than recorded history\, you can do it too.\n\nDIY Wednesdays is going to be a 2-day event this week. Here's the schedule:\n\n[su_list icon="icon: arrow-right" icon_color="#f69d01"]\n\n \tWednesday we will make the dough and leave it to rise overnight until\n \tThursday when we bake it. We might even make our own butter! That's easy too.\n\n[/su_list]\n\nSo mark the date and tell your friends about learning to make homemade bread.\n\nNote: This bread will contain gluten and eggs.
URL:https://columbiavalley.com/events/homemade-bread/
LOCATION:914 - 8th Avenue\, Invermere
GEO:50.5057719;-116.0306135
X-APPLE-STRUCTURED-LOCATION;VALUE=URI;X-ADDRESS=914 - 8th Avenue Invermere;X-APPLE-RADIUS=500;X-TITLE=914 - 8th Avenue:geo:-116.0306135,50.5057719
CATEGORIES:Educational & Business,Food & Drink
ATTACH;FMTTYPE=image/jpeg:https://columbiavalley.com/wp-content/uploads/2016/08/learn_to_make_bread-e1472667131179.jpg
END:VEVENT
END:VCALENDAR