BEGIN:VCALENDAR
VERSION:2.0
PRODID:-//Columbia Valley Tourism Guide - Invermere BC | Official Travel Guide &amp; Events Calendar - ECPv4.2.3//NONSGML v1.0//EN
CALSCALE:GREGORIAN
METHOD:PUBLISH
X-WR-CALNAME:Columbia Valley Tourism Guide - Invermere BC | Official Travel Guide &amp; Events Calendar
X-ORIGINAL-URL:https://columbiavalley.com
X-WR-CALDESC:Events for Columbia Valley Tourism Guide - Invermere BC | Official Travel Guide &amp; Events Calendar
BEGIN:VEVENT
DTSTART;TZID=America/Edmonton:20180420T193000
DTEND;TZID=America/Edmonton:20180420T193000
DTSTAMP:20260420T172928
CREATED:20180328T163033
LAST-MODIFIED:20180328T163112
UID:26498-1524252600-1524252600@columbiavalley.com
SUMMARY:Harry Manx onstage at Key City
DESCRIPTION:Harry Manx onstage at Key City Theatre in April is going to be 2 hours (approximately) of a most unique blending of  the East with the West as mystical meets the Blues. This is one event that you won't want to miss!\n\nHarry Manx has spent years fusing eastern musical traditions with the blues\, switching effortlessly between conventional guitars\, harmonica\, and banjo and the decidedly different Mohan veena\, a 20-stringed instrument invented by Manx’ Indian mentor Vishwa Mohan Bhatt. Manx is often referred to as the “Mysticssippi” Blues Man\, because of his expertise in melding both East and West music together and therefore\, “creating musical short stories that wed the Blues with the depth of classical Indian ragas”.\n\nMake a point of seeing Harry Manx onstage. Get tickets early. Cost is:\n\n \tRegular $39\n \tBig Ticket $33\n \tBig Ticket PLUS $29\n\nPurchase tickets:\n\n \tonline at: https://tickets.keycitytheatre.com/TheatreManager/1/tmEvent/tmEvent885.html\n \tat the Box Office\n \tby phone at: 250-426-7006\n\nTo follow this brilliantly talented musician\, visit his facebook page at: https://facebook.com/HarryManx/
URL:https://columbiavalley.com/events/harry-manx-onstage-at-key-city/
LOCATION:20 - 14th Avenue North\, Cranbrook
GEO:49.512736;-115.76093
X-APPLE-STRUCTURED-LOCATION;VALUE=URI;X-ADDRESS=20 - 14th Avenue North Cranbrook;X-APPLE-RADIUS=500;X-TITLE=20 - 14th Avenue North:geo:-115.76093,49.512736
CATEGORIES:Arts & Entertainment,Cranbrook
ATTACH;FMTTYPE=image/jpeg:https://columbiavalley.com/wp-content/uploads/2018/03/harry-manx.jpg
END:VEVENT
END:VCALENDAR