BEGIN:VCALENDAR
VERSION:2.0
PRODID:-//Columbia Valley Tourism Guide - Invermere BC | Official Travel Guide &amp; Events Calendar - ECPv4.2.3//NONSGML v1.0//EN
CALSCALE:GREGORIAN
METHOD:PUBLISH
X-WR-CALNAME:Columbia Valley Tourism Guide - Invermere BC | Official Travel Guide &amp; Events Calendar
X-ORIGINAL-URL:https://columbiavalley.com
X-WR-CALDESC:Events for Columbia Valley Tourism Guide - Invermere BC | Official Travel Guide &amp; Events Calendar
BEGIN:VEVENT
DTSTART;TZID=America/Edmonton:20171103T070000
DTEND;TZID=America/Edmonton:20171103T213000
DTSTAMP:20260420T094906
CREATED:20171030T185604
LAST-MODIFIED:20171030T185604
UID:24623-1509692400-1509744600@columbiavalley.com
SUMMARY:Halloween Party for teens!
DESCRIPTION:There's a Halloween Party for teens coming up at the new Columbia Valley Centre and if you're between the ages of 12 (grade 7) and 18 years\, it's just for you!\n\nCome on out for a night of music\, games and food. Prizes for our Costume and Pumpkin contest as well as other games.\n\nTransportation:\n\nTransportation to and from Canal Flats and Spillimacheen to the Halloween party for teens will be available. Contact coordinator Angela Miller at: thecolumbiavalleyyouthnetwork@hotmail.com or visit their facebook page: https://facebook.com/Columbiavalleyyouthnetwork
URL:https://columbiavalley.com/events/halloween-party-12-18-year-crowd/
LOCATION:646 - 4th Street\, Invermere
GEO:50.5102706;-116.030258
X-APPLE-STRUCTURED-LOCATION;VALUE=URI;X-ADDRESS=646 - 4th Street Invermere;X-APPLE-RADIUS=500;X-TITLE=646 - 4th Street:geo:-116.030258,50.5102706
CATEGORIES:Invermere,Kids & Youth
ATTACH;FMTTYPE=image/jpeg:https://columbiavalley.com/wp-content/uploads/2017/10/halloween2.jpg
ORGANIZER;CN="Columbia%20Valley%20Youth%20Network":MAILTO:thecolumbiavalleyyouthnetwork@hotmail.com.
END:VEVENT
END:VCALENDAR