BEGIN:VCALENDAR
VERSION:2.0
PRODID:-//Columbia Valley Tourism Guide - Invermere BC | Official Travel Guide &amp; Events Calendar - ECPv4.2.3//NONSGML v1.0//EN
CALSCALE:GREGORIAN
METHOD:PUBLISH
X-WR-CALNAME:Columbia Valley Tourism Guide - Invermere BC | Official Travel Guide &amp; Events Calendar
X-ORIGINAL-URL:https://columbiavalley.com
X-WR-CALDESC:Events for Columbia Valley Tourism Guide - Invermere BC | Official Travel Guide &amp; Events Calendar
BEGIN:VEVENT
DTSTART;TZID=UTC-6:20181231T220000
DTEND;TZID=UTC-6:20181231T220000
DTSTAMP:20260420T083935
CREATED:20161218T220510
LAST-MODIFIED:20180724T192742
UID:20146-1546293600-1546293600@columbiavalley.com
SUMMARY:New Years Eve Fireworks in Fairmont
DESCRIPTION:A Fairmont New Years Eve Fireworks display will take place at the Fairmont Indian Baths\, above the Fairmont Hot Springs Resort parking lot. The historic landmark overlooks the Columbia Valley with the Purcell Mountains to the west\, offering one of the best spots ever to view the annual celebration! Everyone's invited to join the fun as we usher in 2017.\n\nFor information about the Fairmont Indian Baths\, please visit our story post here.\n\n[the_ad_placement id="invermere-in-content"]
URL:https://columbiavalley.com/events/fairmont-new-years-eve-fireworks/
LOCATION:5225 Fairmont Resort Road\, Fairmont Hot Springs
GEO:50.3281886;-115.8426846
X-APPLE-STRUCTURED-LOCATION;VALUE=URI;X-ADDRESS=5225 Fairmont Resort Road Fairmont Hot Springs;X-APPLE-RADIUS=500;X-TITLE=5225 Fairmont Resort Road:geo:-115.8426846,50.3281886
CATEGORIES:Annual Events,Fairmont Hot Springs,Fairs & Festivals
ATTACH;FMTTYPE=image/jpeg:https://columbiavalley.com/wp-content/uploads/2016/12/new-years-eve_FHSR_960-e1482082854455.jpg
END:VEVENT
END:VCALENDAR