BEGIN:VCALENDAR
VERSION:2.0
PRODID:-//Columbia Valley Tourism Guide - Invermere BC | Official Travel Guide &amp; Events Calendar - ECPv4.2.3//NONSGML v1.0//EN
CALSCALE:GREGORIAN
METHOD:PUBLISH
X-WR-CALNAME:Columbia Valley Tourism Guide - Invermere BC | Official Travel Guide &amp; Events Calendar
X-ORIGINAL-URL:https://columbiavalley.com
X-WR-CALDESC:Events for Columbia Valley Tourism Guide - Invermere BC | Official Travel Guide &amp; Events Calendar
BEGIN:VEVENT
DTSTART;TZID=UTC-7:20160319T100000
DTEND;TZID=UTC-7:20160319T100000
DTSTAMP:20260420T094535
CREATED:20160313T173223
LAST-MODIFIED:20160322T212548
UID:10442-1458381600-1458381600@columbiavalley.com
SUMMARY:Easter Storytime & Crafts
DESCRIPTION:Easter Storytime and Crafts at Radium Public will be Easter fun for all kids. Join us! Everyone is welcome.
URL:https://columbiavalley.com/events/easter-storytime-crafts/
LOCATION:4855 Stanley Street\, Radium Hot Sprinigs
GEO:50.620762;-116.0715719
X-APPLE-STRUCTURED-LOCATION;VALUE=URI;X-ADDRESS=4855 Stanley Street Radium Hot Sprinigs;X-APPLE-RADIUS=500;X-TITLE=4855 Stanley Street:geo:-116.0715719,50.620762
CATEGORIES:Arts & Entertainment
ATTACH;FMTTYPE=image/jpeg:https://columbiavalley.com/wp-content/uploads/2016/03/easter-640989_960_720-e1457834318174.jpg
END:VEVENT
END:VCALENDAR