BEGIN:VCALENDAR
VERSION:2.0
PRODID:-//Columbia Valley Tourism Guide - Invermere BC | Official Travel Guide &amp; Events Calendar - ECPv4.2.3//NONSGML v1.0//EN
CALSCALE:GREGORIAN
METHOD:PUBLISH
X-WR-CALNAME:Columbia Valley Tourism Guide - Invermere BC | Official Travel Guide &amp; Events Calendar
X-ORIGINAL-URL:https://columbiavalley.com
X-WR-CALDESC:Events for Columbia Valley Tourism Guide - Invermere BC | Official Travel Guide &amp; Events Calendar
BEGIN:VEVENT
DTSTART;TZID=America/Edmonton:20170513T110000
DTEND;TZID=America/Edmonton:20170513T160000
DTSTAMP:20260420T093649
CREATED:20170506T203404
LAST-MODIFIED:20170513T042449
UID:22404-1494673200-1494691200@columbiavalley.com
SUMMARY:'Dry Grad' Fundraiser Carwash
DESCRIPTION:The DTSS Graduating Class of 2017 will be holding a fundraiser carwash at the Syndicate Board Shop in order to raise funds for their upcoming 'Dry Grad' event.\n\nCould your vehicle by any chance\, need to meet up with some soap and water? Bring it to the Syndicate Board Shop and let these great kids give it some TLC as you show your support for this big event of their high school year.
URL:https://columbiavalley.com/events/dry-grad-fundraiser-carwash/
CATEGORIES:Kids & Youth
ATTACH;FMTTYPE=image/jpeg:https://columbiavalley.com/wp-content/uploads/2017/05/carwash.jpg
END:VEVENT
END:VCALENDAR