BEGIN:VCALENDAR
VERSION:2.0
PRODID:-//Columbia Valley Tourism Guide - Invermere BC | Official Travel Guide &amp; Events Calendar - ECPv4.2.3//NONSGML v1.0//EN
CALSCALE:GREGORIAN
METHOD:PUBLISH
X-WR-CALNAME:Columbia Valley Tourism Guide - Invermere BC | Official Travel Guide &amp; Events Calendar
X-ORIGINAL-URL:https://columbiavalley.com
X-WR-CALDESC:Events for Columbia Valley Tourism Guide - Invermere BC | Official Travel Guide &amp; Events Calendar
BEGIN:VEVENT
DTSTART;TZID=UTC-7:20160308T190000
DTEND;TZID=UTC-7:20160308T210000
DTSTAMP:20260420T105646
CREATED:20160115T232134
LAST-MODIFIED:20160218T040903
UID:8071-1457463600-1457470800@columbiavalley.com
SUMMARY:Cinefest film – “My Internship in Canada”
DESCRIPTION:“My Internship in Canada” is pure political satire\, pointing the finger at Canadians’ penchant for focusing on the regional at the expense of the bigger picture.\n\nLook through the eyes of an independent MP from northern Quebec who unexpectedly finds himself holding the tie-breaking vote on whether or not the country will go to war in the Middle East.\n\nSteve Guibord\, played by Patrick Huard\, goes on a tour of his constituency to find out public opinion on the matter and what the lobby groups want. He becomes confused as the debate spins out of control and finally forces his decision onto the shoulders of his Haitian immigrant intern\, Souverain.\n\n"My Internship in Canada" received an honorable mention from the jury at the 2015 TorontoInternational Film Festival and has been named as part of the festival’s ‘Top Ten’  best Canadian films of the year.The film is suitable for all ages.\n\nEnjoy the cash bar\, light refreshments\, popcorn and other favorite theatre snacks.
URL:https://columbiavalley.com/events/cinefest-film-internship-canada/
LOCATION:1720 - 4th Avenue\, Invermere
GEO:50.4978;-116.024401
X-APPLE-STRUCTURED-LOCATION;VALUE=URI;X-ADDRESS=1720 - 4th Avenue Invermere;X-APPLE-RADIUS=500;X-TITLE=1720 - 4th Avenue:geo:-116.024401,50.4978
CATEGORIES:Arts & Entertainment
ATTACH;FMTTYPE=image/png:https://columbiavalley.com/wp-content/uploads/2016/01/Cinefest_1000.png
END:VEVENT
END:VCALENDAR