BEGIN:VCALENDAR
VERSION:2.0
PRODID:-//Columbia Valley Tourism Guide - Invermere BC | Official Travel Guide &amp; Events Calendar - ECPv4.2.3//NONSGML v1.0//EN
CALSCALE:GREGORIAN
METHOD:PUBLISH
X-WR-CALNAME:Columbia Valley Tourism Guide - Invermere BC | Official Travel Guide &amp; Events Calendar
X-ORIGINAL-URL:https://columbiavalley.com
X-WR-CALDESC:Events for Columbia Valley Tourism Guide - Invermere BC | Official Travel Guide &amp; Events Calendar
BEGIN:VEVENT
DTSTART;VALUE=DATE:20180301
DTEND;VALUE=DATE:20180515
DTSTAMP:20260420T110127
CREATED:20171030
LAST-MODIFIED:20180616
UID:20842-1519862400-1526428799@columbiavalley.com
SUMMARY:Cheese Fondue's a special treat at Strand's
DESCRIPTION:Cheese Fondue in the cozy atmosphere of Strand's Old House Restaurant on a chilly spring night. A glass of fine wine. A group of friends at the end of a fabulous day outdoors or a romantic date evening with your sweetheart.\nSitting in the warmth of a crackling fire. Imagine it!\nCheese Fondue is a brand new reason to enjoy Strand's.\nServed Swiss-style\nEmmenthal\, Gruyere and exotic Allenzeller cheeses\nDiced Bread\, Apple\, Pear & Grapes\n$29.95 Per Person\nMake your reservation for cheese fondue now! When you call\, you can specify a table by the fireplace. Call 250-342-6344.\nHours of operation \nOpen every day from 5 pm\, except Monday\n\n[the_ad_placement id="invermere-in-content"]
URL:https://columbiavalley.com/events/cheese-fondue-a-winter-treat-at-strands/
LOCATION:818 - 12th Street\, Invermere\, BC
GEO:50.5046018;-116.0308441
X-APPLE-STRUCTURED-LOCATION;VALUE=URI;X-ADDRESS=818 - 12th Street Invermere BC;X-APPLE-RADIUS=500;X-TITLE=818 - 12th Street:geo:-116.0308441,50.5046018
CATEGORIES:Food & Drink,Invermere
ATTACH;FMTTYPE=image/jpeg:https://columbiavalley.com/wp-content/uploads/2017/10/cheese-fondue.jpg
END:VEVENT
END:VCALENDAR