BEGIN:VCALENDAR
VERSION:2.0
PRODID:-//Columbia Valley Tourism Guide - Invermere BC | Official Travel Guide &amp; Events Calendar - ECPv4.2.3//NONSGML v1.0//EN
CALSCALE:GREGORIAN
METHOD:PUBLISH
X-WR-CALNAME:Columbia Valley Tourism Guide - Invermere BC | Official Travel Guide &amp; Events Calendar
X-ORIGINAL-URL:https://columbiavalley.com
X-WR-CALDESC:Events for Columbia Valley Tourism Guide - Invermere BC | Official Travel Guide &amp; Events Calendar
BEGIN:VEVENT
DTSTART;VALUE=DATE:20180412
DTEND;VALUE=DATE:20180426
DTSTAMP:20260420T105429
CREATED:20180410
LAST-MODIFIED:20180425
UID:26605-1523491200-1524787199@columbiavalley.com
SUMMARY:Chalk Paint 201 workshops at Inspire
DESCRIPTION:These Chalk Paint 201 workshops at Inspire Floral Boutique will show you how to work on a larger project\, demonstrate glaze finishing techniques\, and help you to hone your distressing and layering techniques. Learn how to create some amazing everyday and seasonal decor pieces.\n\nThese are part of Inspire's line-up of learning opportunities where you can get out with your friends and get those creative juices flowing. The workshops use the fabulous eco-friendly chalk paint and all-natural sealers produced by American Paint Company.\n\nWorkshop dates:\n\nApril 12\, 6:30-8:30 pm\nApril 18\, 1-3 pm\nApril 26\, 6:30-8:30 pm\n\n\nPlace: Inspire Floral Boutique\, downtown Invermere\nAvailability: 4-5 people per class\nPrice: $60/person (must pre-pay to hold your spot)\n\nWhat you get:\n\n1 paint therapy kit (shelf\, tray\, chevron or arrow)\n1 - 4 oz pot of APC chalk paint in a colour of your choice\n\n\nWe provide all the tools you will need to get the job done. You just need to pay\, show up and have fun!\n\nSnacks and beverages will be provided. 10% discount on all purchases made during workshop (excluding Kameleon Jewelry).\n\nCall us at the shop to register (250) 342-0383 or e-mail us at info@inspireflowers.ca. Spots are limited so register ASAP!\n\n[the_ad_placement id="invermere-in-content"]
URL:https://columbiavalley.com/events/chalk-paint-201-workshops-inspire/
LOCATION:1046A – 7th Avenue\, Invermere
GEO:50.5043592;-116.0276895
X-APPLE-STRUCTURED-LOCATION;VALUE=URI;X-ADDRESS=1046A – 7th Avenue Invermere;X-APPLE-RADIUS=500;X-TITLE=1046A – 7th Avenue:geo:-116.0276895,50.5043592
CATEGORIES:Arts & Entertainment,Educational & Business,Invermere
ATTACH;FMTTYPE=image/jpeg:https://columbiavalley.com/wp-content/uploads/2018/04/apc-chalk-paint.jpg
END:VEVENT
END:VCALENDAR