BEGIN:VCALENDAR
VERSION:2.0
PRODID:-//Columbia Valley Tourism Guide - Invermere BC | Official Travel Guide &amp; Events Calendar - ECPv4.2.3//NONSGML v1.0//EN
CALSCALE:GREGORIAN
METHOD:PUBLISH
X-WR-CALNAME:Columbia Valley Tourism Guide - Invermere BC | Official Travel Guide &amp; Events Calendar
X-ORIGINAL-URL:https://columbiavalley.com
X-WR-CALDESC:Events for Columbia Valley Tourism Guide - Invermere BC | Official Travel Guide &amp; Events Calendar
BEGIN:VEVENT
DTSTART;TZID=UTC-6:20160929T190000
DTEND;TZID=UTC-6:20161001T170000
DTSTAMP:20260420T083753
CREATED:20160927T170149
LAST-MODIFIED:20160927T180100
UID:17106-1475175600-1475341200@columbiavalley.com
SUMMARY:Wildsight hosts author Briony Penn book event
DESCRIPTION:Wildsight is hosting this Briony Penn book event with Salt Spring Island author and professor Briony Penn\, recent winner of the Roderick Haig-Brown Regional BC Book Prize.  On Friday evening\, she will read from her biographical tribute to Ian McTaggart Cowan\, 'The Real Thing: The Natural History of Ian McTaggart Cowan.'\n\nIan McTaggart Cowan (1910–2010) was known as the “father of Canadian ecology” for many reasons. He:\n\n[su_list icon="icon: arrow-right" icon_color="#f69d01"]\n\n \trevolutionized the way we understand the natural world\n \taddressed the issues of climate change and endangered species before anyone had drawn attention to them\n \tfounded the first wildlife department in a Canadian university\n \twas at the forefront of nature-themed television shows\, inspiring David Suzuki's popular show\, The Nature of Things\n \thelped to lead wildlife conservation and environmental education in Canada's national parks\n\n[/su_list]\n\nAttendees at the Thursday evening event will enjoy a journey through the mountainous regions of British Columbia\, characters such as muzzled scientists\, activist trappers and women naturalists. Listen to excerpts from the book and see old photos and clips from his The Web of Life television shows.\n\nOn Saturday afternoon from 3 to 5 PM\, Briony will lead a nature walk at Lake Enid. Learn how you can use journaling as a way to connect with nature. Meet at the Wilmer Community Hall to car-pool.\n\nFor more information about this 2-part event\, send an email to kim@wildsight.ca\n\nShare this with your friends!
URL:https://columbiavalley.com/events/briony-penn-book-event/
LOCATION:1720 - 4th Avenue\, Invermere
GEO:50.4978;-116.024401
X-APPLE-STRUCTURED-LOCATION;VALUE=URI;X-ADDRESS=1720 - 4th Avenue Invermere;X-APPLE-RADIUS=500;X-TITLE=1720 - 4th Avenue:geo:-116.024401,50.4978
CATEGORIES:Arts & Entertainment,Educational & Business,Recreation & Sports
ATTACH;FMTTYPE=image/jpeg:https://columbiavalley.com/wp-content/uploads/2016/09/the_real_thing_1000_2.jpg
ORGANIZER;CN="Wildsight":MAILTO:info@wildsight.ca
END:VEVENT
END:VCALENDAR