BEGIN:VCALENDAR
VERSION:2.0
PRODID:-//Columbia Valley Tourism Guide - Invermere BC | Official Travel Guide &amp; Events Calendar - ECPv4.2.3//NONSGML v1.0//EN
CALSCALE:GREGORIAN
METHOD:PUBLISH
X-WR-CALNAME:Columbia Valley Tourism Guide - Invermere BC | Official Travel Guide &amp; Events Calendar
X-ORIGINAL-URL:https://columbiavalley.com
X-WR-CALDESC:Events for Columbia Valley Tourism Guide - Invermere BC | Official Travel Guide &amp; Events Calendar
BEGIN:VEVENT
DTSTART;TZID=America/Edmonton:20180117T100000
DTEND;TZID=America/Edmonton:20180117T113000
DTSTAMP:20260420T105505
CREATED:20170105T045720
LAST-MODIFIED:20180315T051201
UID:20782-1516183200-1516188600@columbiavalley.com
SUMMARY:Breastfeeding Mamas
DESCRIPTION:Breastfeeding Mamas is a FREE monthly peer support group for pregnant and breastfeeding mothers. It's an opportunity to connect with other mothers\, get accurate information about various topics of special interest\, encourage and receive encouragement and support others.\n\nWe meet monthly on the 3rd Wednesday in the Children's Corner at the Invermere Public Library and welcome all mothers who are on a similar journey. Breastfeeding peer support has been found to make a huge difference for breastfeeding families. Families who have this type of support breastfeed longer\, achieving more of their breastfeeding goals.\n\nThe Invermere program is made possible by Columbia Basin Trust\, RDEK\, Community Connections Society of SE BC\, Over the Rainbow Family Services and the Invermere Public Library.\n\nFor more information about the Breastfeeding Mamas program\, visit: https://facebook.com/breastfeedingmamas\n\n[the_ad_placement id="invermere-in-content"]
URL:https://columbiavalley.com/events/breastfeeding-mamas/2018-01-17/
LOCATION:646 - 4th Street\, Invermere
GEO:50.5101117;-116.0303137
X-APPLE-STRUCTURED-LOCATION;VALUE=URI;X-ADDRESS=646 - 4th Street Invermere;X-APPLE-RADIUS=500;X-TITLE=646 - 4th Street:geo:-116.0303137,50.5101117
CATEGORIES:Educational & Business,Health & Wellness,Invermere
ATTACH;FMTTYPE=image/jpeg:https://columbiavalley.com/wp-content/uploads/2017/01/breastfeeding_mamas_1000-e1483563749342.jpg
END:VEVENT
END:VCALENDAR