BEGIN:VCALENDAR
VERSION:2.0
PRODID:-//Columbia Valley Tourism Guide - Invermere BC | Official Travel Guide &amp; Events Calendar - ECPv4.2.3//NONSGML v1.0//EN
CALSCALE:GREGORIAN
METHOD:PUBLISH
X-WR-CALNAME:Columbia Valley Tourism Guide - Invermere BC | Official Travel Guide &amp; Events Calendar
X-ORIGINAL-URL:https://columbiavalley.com
X-WR-CALDESC:Events for Columbia Valley Tourism Guide - Invermere BC | Official Travel Guide &amp; Events Calendar
BEGIN:VEVENT
DTSTART;TZID=America/Edmonton:20180417T183000
DTEND;TZID=America/Edmonton:20180417T203000
DTSTAMP:20260420T120333
CREATED:20180410T231940
LAST-MODIFIED:20180411T011945
UID:26637-1523989800-1523997000@columbiavalley.com
SUMMARY:Bird house planter workshop at Inspire
DESCRIPTION:In this do-it-yourself bird house planter workshop at Inspire Floral Boutique you will learn how to work with chalk paint on a wood surface. Learn distressing\, layering and wax paper transfer techniques\, as well as basic finishing techniques.\n\nThis is part of Inspire’s line-up of learning opportunities where you can get out with your friends and get those creative juices flowing. The workshop uses the fabulous eco-friendly chalk paint and all-natural sealers produced by American Paint Company.\n\nWorkshop date:\n\nApril 17\, 6:30-8:30 pm\n\n\nPlace: Inspire Floral Boutique\, downtown Invermere\nAvailability: 4-6 people per class\nPrice: $55/person (must pre-pay to hold your spot)\n\nWhat you get:\n\nthe bird-house planter\n1 - 4 oz pot of APC paint in a colour of your choice\n\n\nWe provide all the tools you will need to get the job done. You just need to pay\, show up and have fun!\n\nSnacks and beverages are provided. 10% discount on all purchases storewide (except Kameleon Jewelry).\n\nTo register\, call us at the shop on 250-342-0383 or email us at info@inspireflowers.ca. Spots are limited so register ASAP!
URL:https://columbiavalley.com/events/bird-house-planter-workshop-inspire/
LOCATION:1046A – 7th Avenue\, Invermere
GEO:50.5043592;-116.0276895
X-APPLE-STRUCTURED-LOCATION;VALUE=URI;X-ADDRESS=1046A – 7th Avenue Invermere;X-APPLE-RADIUS=500;X-TITLE=1046A – 7th Avenue:geo:-116.0276895,50.5043592
CATEGORIES:Arts & Entertainment,Educational & Business,Invermere
ATTACH;FMTTYPE=image/jpeg:https://columbiavalley.com/wp-content/uploads/2018/04/bird-house-planter.jpg
END:VEVENT
END:VCALENDAR