BEGIN:VCALENDAR
VERSION:2.0
PRODID:-//Columbia Valley Tourism Guide - Invermere BC | Official Travel Guide &amp; Events Calendar - ECPv4.2.3//NONSGML v1.0//EN
CALSCALE:GREGORIAN
METHOD:PUBLISH
X-WR-CALNAME:Columbia Valley Tourism Guide - Invermere BC | Official Travel Guide &amp; Events Calendar
X-ORIGINAL-URL:https://columbiavalley.com
X-WR-CALDESC:Events for Columbia Valley Tourism Guide - Invermere BC | Official Travel Guide &amp; Events Calendar
BEGIN:VEVENT
DTSTART;TZID=UTC-6:20161027T190000
DTEND;TZID=UTC-6:20161027T190000
DTSTAMP:20260420T082105
CREATED:20161025T011248
LAST-MODIFIED:20161025T011248
UID:18020-1477594800-1477594800@columbiavalley.com
SUMMARY:BC Societies Act Changes: FREE information class
DESCRIPTION:The BC Societies Act changes coming over the next few months will have a profound affect in the future for non-profit clubs\, associations and societies in the province. Every not-for-profit organization will need to adopt new ways to conduct their businesses.\n\nGroups will need to:\n\n[su_list icon="icon: arrow-right" icon_color="#f69d01"]\n\n \tre-organize to comply with the new BC Societies Act\n \tFollow new reporting requirements\n\n[/su_list]\n\nHow will this affect your non-profit organization? The College of the Rockies\, Invermere Campus\, will be hosting a FREE information class with Glen Ewan\, Q.C. Glen will take you step-by-step through this new and unfamiliar legal territory and answer your questions.\n\nPlease pre-register for the BC Societies Act class by phoning the College at 250-342-3210.\n\nShare this with your friends!\n\n
URL:https://columbiavalley.com/events/bc-societies-act-changes/
LOCATION:1535 - 14th Street\, Invermere
GEO:50.5021516;-116.0410705
X-APPLE-STRUCTURED-LOCATION;VALUE=URI;X-ADDRESS=1535 - 14th Street Invermere;X-APPLE-RADIUS=500;X-TITLE=1535 - 14th Street:geo:-116.0410705,50.5021516
CATEGORIES:Educational & Business
ATTACH;FMTTYPE=image/jpeg:https://columbiavalley.com/wp-content/uploads/2016/10/bc_societies_act_changes_960.jpg
END:VEVENT
END:VCALENDAR