BEGIN:VCALENDAR
VERSION:2.0
PRODID:-//Columbia Valley Tourism Guide - Invermere BC | Official Travel Guide &amp; Events Calendar - ECPv4.2.3//NONSGML v1.0//EN
CALSCALE:GREGORIAN
METHOD:PUBLISH
X-WR-CALNAME:Columbia Valley Tourism Guide - Invermere BC | Official Travel Guide &amp; Events Calendar
X-ORIGINAL-URL:https://columbiavalley.com
X-WR-CALDESC:Events for Columbia Valley Tourism Guide - Invermere BC | Official Travel Guide &amp; Events Calendar
BEGIN:VEVENT
DTSTART;TZID=UTC-6:20160806T200000
DTEND;TZID=UTC-6:20160806T220000
DTSTAMP:20260420T113209
CREATED:20160716T193532
LAST-MODIFIED:20180501T025806
UID:14664-1470513600-1470520800@columbiavalley.com
SUMMARY:Annual Roller Disco
DESCRIPTION:[caption id="attachment_14787" align="alignright" width="240"] Click to view poster[/caption]\n\nThe Roller Disco is back for the 2nd year! Arrowhead Brewing Company is presenting an evening of summertime fun and laughter for the 19-and-over crowd at the Roller Rink in the Curling Club.\n\nIt's a 70s themed event so raid your closet for your best 1970s digs and get a groove on!\n\nYour entry fee of $15 includes a pair of vintage roller skates.\n\nThere will be an Arrowhead beer garden and some great prizes.\n\nShare this with your friends!
URL:https://columbiavalley.com/events/arrowhead-roller-disco/
LOCATION:509 - 13th Street\, Invermere
GEO:50.5025437;-116.0234134
X-APPLE-STRUCTURED-LOCATION;VALUE=URI;X-ADDRESS=509 - 13th Street Invermere;X-APPLE-RADIUS=500;X-TITLE=509 - 13th Street:geo:-116.0234134,50.5025437
CATEGORIES:Recreation & Sports
ATTACH;FMTTYPE=image/jpeg:https://columbiavalley.com/wp-content/uploads/2016/07/roller_disco_1000.jpg
END:VEVENT
END:VCALENDAR