BEGIN:VCALENDAR
VERSION:2.0
PRODID:-//Columbia Valley Tourism Guide - Invermere BC | Official Travel Guide &amp; Events Calendar - ECPv4.2.3//NONSGML v1.0//EN
CALSCALE:GREGORIAN
METHOD:PUBLISH
X-WR-CALNAME:Columbia Valley Tourism Guide - Invermere BC | Official Travel Guide &amp; Events Calendar
X-ORIGINAL-URL:https://columbiavalley.com
X-WR-CALDESC:Events for Columbia Valley Tourism Guide - Invermere BC | Official Travel Guide &amp; Events Calendar
BEGIN:VEVENT
DTSTART;TZID=America/Edmonton:20170519T120000
DTEND;TZID=America/Edmonton:20170520T123000
DTSTAMP:20260420T094819
CREATED:20170512T195803
LAST-MODIFIED:20170513T012547
UID:22511-1495195200-1495283400@columbiavalley.com
SUMMARY:Annual Rotary Garage Sale
DESCRIPTION:The annual Rotary Garage Sale at Deck Storage is coming up again this week. The Rotary Club of Invermere has a storage locker filled with great items collected over the last year and invites one and all to visit. There's something for everyone for every season - from home decor\, to gardening tools\, winter gear\, hardware\, kids toys\, and more - you'll find just what you are looking for!\n\nAll proceeds from the annual Rotary Garage Sale go to supporting Rotary projects.\n\nHours are:\n\n \tFriday\, May 19 from 12 - 5 pm\n \tSaturday\, May 20 from 8 am - 12:30 pm\n
URL:https://columbiavalley.com/events/annual-rotary-garage-sale/
LOCATION:4340 Toby Creek Road\, Invermere
GEO:50.5198421;-116.0513086
X-APPLE-STRUCTURED-LOCATION;VALUE=URI;X-ADDRESS=4340 Toby Creek Road Invermere;X-APPLE-RADIUS=500;X-TITLE=4340 Toby Creek Road:geo:-116.0513086,50.5198421
CATEGORIES:Shopping & Services
ATTACH;FMTTYPE=image/png:https://columbiavalley.com/wp-content/uploads/2017/05/sale.png
END:VEVENT
END:VCALENDAR